BEGIN:VCALENDAR
VERSION:2.0
PRODID:-//spbstu.ru//ical//RU
NAME:Расписание группы 5140201/50302
X-WR-CALNAME:Расписание группы 5140201/50302
TIMEZONE-ID:Europe/Moscow
X-WR-TIMEZONE:Europe/Moscow
BEGIN:VEVENT
UID:gufq@192.168.245.71:3006
SEQUENCE:0
DTSTAMP:20260425T035253Z
DTSTART:20251028T070000Z
DTEND:20251028T084000Z
SUMMARY:Машинное обучение
LOCATION:11 к. 148
END:VEVENT
BEGIN:VEVENT
UID:lthu@192.168.245.71:3006
SEQUENCE:0
DTSTAMP:20260425T035253Z
DTSTART:20251028T110000Z
DTEND:20251028T115000Z
SUMMARY:Параллельное программирование на суперкомпьютерных системах
LOCATION:НИК А1.08
END:VEVENT
BEGIN:VEVENT
UID:0i05@192.168.245.71:3006
SEQUENCE:0
DTSTAMP:20260425T035253Z
DTSTART:20251029T070000Z
DTEND:20251029T084000Z
SUMMARY:Иностранный язык в профессиональной коммуникации\, Английский
LOCATION:11 к. 330
END:VEVENT
BEGIN:VEVENT
UID:wcpr@192.168.245.71:3006
SEQUENCE:0
DTSTAMP:20260425T035253Z
DTSTART:20251030T060000Z
DTEND:20251030T065000Z
SUMMARY:Статистический анализ данных
LOCATION:4 к. 308-2
END:VEVENT
BEGIN:VEVENT
UID:w4fy@192.168.245.71:3006
SEQUENCE:0
DTSTAMP:20260425T035253Z
DTSTART:20251030T070000Z
DTEND:20251030T084000Z
SUMMARY:Статистический анализ данных
LOCATION:4 к. 308-2
END:VEVENT
BEGIN:VEVENT
UID:b846@192.168.245.71:3006
SEQUENCE:0
DTSTAMP:20260425T035253Z
DTSTART:20251030T090000Z
DTEND:20251030T104000Z
SUMMARY:Элементы теории вероятности и линейной алгебры
LOCATION:4 к. 308-2
END:VEVENT
BEGIN:VEVENT
UID:0ifr@192.168.245.71:3006
SEQUENCE:0
DTSTAMP:20260425T035253Z
DTSTART:20251030T130000Z
DTEND:20251030T135000Z
SUMMARY:Управление знаниями и технологии баз данных
LOCATION:4 к. 308-2
END:VEVENT
BEGIN:VEVENT
UID:y882@192.168.245.71:3006
SEQUENCE:0
DTSTAMP:20260425T035253Z
DTSTART:20251030T140000Z
DTEND:20251030T154000Z
SUMMARY:Управление знаниями и технологии баз данных
LOCATION:4 к. 308-2
END:VEVENT
END:VCALENDAR