BEGIN:VCALENDAR
VERSION:2.0
PRODID:-//spbstu.ru//ical//RU
NAME:Расписание группы 5140201/50302
X-WR-CALNAME:Расписание группы 5140201/50302
TIMEZONE-ID:Europe/Moscow
X-WR-TIMEZONE:Europe/Moscow
BEGIN:VEVENT
UID:jfam@192.168.245.71:3006
SEQUENCE:0
DTSTAMP:20260424T164915Z
DTSTART:20251111T070000Z
DTEND:20251111T084000Z
SUMMARY:Машинное обучение
LOCATION:11 к. 148
END:VEVENT
BEGIN:VEVENT
UID:osl9@192.168.245.71:3006
SEQUENCE:0
DTSTAMP:20260424T164915Z
DTSTART:20251111T110000Z
DTEND:20251111T115000Z
SUMMARY:Параллельное программирование на суперкомпьютерных системах
LOCATION:НИК А1.08
END:VEVENT
BEGIN:VEVENT
UID:56fh@192.168.245.71:3006
SEQUENCE:0
DTSTAMP:20260424T164915Z
DTSTART:20251112T070000Z
DTEND:20251112T084000Z
SUMMARY:Иностранный язык в профессиональной коммуникации\, Английский
LOCATION:11 к. 330
END:VEVENT
BEGIN:VEVENT
UID:nx6o@192.168.245.71:3006
SEQUENCE:0
DTSTAMP:20260424T164915Z
DTSTART:20251113T060000Z
DTEND:20251113T065000Z
SUMMARY:Статистический анализ данных
LOCATION:4 к. 308-2
END:VEVENT
BEGIN:VEVENT
UID:9ekb@192.168.245.71:3006
SEQUENCE:0
DTSTAMP:20260424T164915Z
DTSTART:20251113T070000Z
DTEND:20251113T084000Z
SUMMARY:Статистический анализ данных
LOCATION:4 к. 308-2
END:VEVENT
BEGIN:VEVENT
UID:ndx6@192.168.245.71:3006
SEQUENCE:0
DTSTAMP:20260424T164915Z
DTSTART:20251113T090000Z
DTEND:20251113T104000Z
SUMMARY:Элементы теории вероятности и линейной алгебры
LOCATION:4 к. 308-2
END:VEVENT
BEGIN:VEVENT
UID:pwiq@192.168.245.71:3006
SEQUENCE:0
DTSTAMP:20260424T164915Z
DTSTART:20251113T130000Z
DTEND:20251113T135000Z
SUMMARY:Управление знаниями и технологии баз данных
LOCATION:4 к. 308-2
END:VEVENT
BEGIN:VEVENT
UID:4bds@192.168.245.71:3006
SEQUENCE:0
DTSTAMP:20260424T164915Z
DTSTART:20251113T140000Z
DTEND:20251113T154000Z
SUMMARY:Управление знаниями и технологии баз данных
LOCATION:4 к. 308-2
END:VEVENT
END:VCALENDAR