BEGIN:VCALENDAR
VERSION:2.0
PRODID:-//spbstu.ru//ical//RU
NAME:Расписание группы 5140201/50302
X-WR-CALNAME:Расписание группы 5140201/50302
TIMEZONE-ID:Europe/Moscow
X-WR-TIMEZONE:Europe/Moscow
BEGIN:VEVENT
UID:svyf@192.168.245.71:3006
SEQUENCE:0
DTSTAMP:20260424T040610Z
DTSTART:20251209T070000Z
DTEND:20251209T084000Z
SUMMARY:Машинное обучение
LOCATION:11 к. 148
END:VEVENT
BEGIN:VEVENT
UID:t1ho@192.168.245.71:3006
SEQUENCE:0
DTSTAMP:20260424T040610Z
DTSTART:20251209T110000Z
DTEND:20251209T115000Z
SUMMARY:Параллельное программирование на суперкомпьютерных системах
LOCATION:НИК А1.08
END:VEVENT
BEGIN:VEVENT
UID:2zsh@192.168.245.71:3006
SEQUENCE:0
DTSTAMP:20260424T040610Z
DTSTART:20251210T070000Z
DTEND:20251210T084000Z
SUMMARY:Иностранный язык в профессиональной коммуникации\, Английский
LOCATION:11 к. 330
END:VEVENT
BEGIN:VEVENT
UID:tc5k@192.168.245.71:3006
SEQUENCE:0
DTSTAMP:20260424T040610Z
DTSTART:20251211T050000Z
DTEND:20251211T064000Z
SUMMARY:Статистический анализ данных
LOCATION:4 к. 308-2
END:VEVENT
BEGIN:VEVENT
UID:62ln@192.168.245.71:3006
SEQUENCE:0
DTSTAMP:20260424T040610Z
DTSTART:20251211T070000Z
DTEND:20251211T084000Z
SUMMARY:Статистический анализ данных
LOCATION:4 к. 308-2
END:VEVENT
BEGIN:VEVENT
UID:cgjl@192.168.245.71:3006
SEQUENCE:0
DTSTAMP:20260424T040610Z
DTSTART:20251211T090000Z
DTEND:20251211T104000Z
SUMMARY:Элементы теории вероятности и линейной алгебры
LOCATION:4 к. 308-2
END:VEVENT
BEGIN:VEVENT
UID:1tw0@192.168.245.71:3006
SEQUENCE:0
DTSTAMP:20260424T040610Z
DTSTART:20251211T130000Z
DTEND:20251211T135000Z
SUMMARY:Управление знаниями и технологии баз данных
LOCATION:4 к. 308-2
END:VEVENT
BEGIN:VEVENT
UID:uwy6@192.168.245.71:3006
SEQUENCE:0
DTSTAMP:20260424T040610Z
DTSTART:20251211T140000Z
DTEND:20251211T154000Z
SUMMARY:Управление знаниями и технологии баз данных
LOCATION:4 к. 308-2
END:VEVENT
END:VCALENDAR