BEGIN:VCALENDAR
VERSION:2.0
PRODID:-//spbstu.ru//ical//RU
NAME:Расписание группы 5140201/50302
X-WR-CALNAME:Расписание группы 5140201/50302
TIMEZONE-ID:Europe/Moscow
X-WR-TIMEZONE:Europe/Moscow
BEGIN:VEVENT
UID:vmfo@192.168.245.71:3006
SEQUENCE:0
DTSTAMP:20260422T190521Z
DTSTART:20260302T130000Z
DTEND:20260302T144000Z
SUMMARY:Цифровые ресурсы в научном исследовании
LOCATION:4 к. 307
END:VEVENT
BEGIN:VEVENT
UID:l5o0@192.168.245.71:3006
SEQUENCE:0
DTSTAMP:20260422T190521Z
DTSTART:20260304T070000Z
DTEND:20260304T084000Z
SUMMARY:Глубокое машинное обучение
LOCATION:4 к. 308-2
END:VEVENT
BEGIN:VEVENT
UID:58pi@192.168.245.71:3006
SEQUENCE:0
DTSTAMP:20260422T190521Z
DTSTART:20260304T090000Z
DTEND:20260304T104000Z
SUMMARY:Статистика больших данных
LOCATION:4 к. 308-2
END:VEVENT
BEGIN:VEVENT
UID:p8lk@192.168.245.71:3006
SEQUENCE:0
DTSTAMP:20260422T190521Z
DTSTART:20260304T110000Z
DTEND:20260304T124000Z
SUMMARY:Глубокое машинное обучение
LOCATION:4 к. 305-2
END:VEVENT
BEGIN:VEVENT
UID:lou5@192.168.245.71:3006
SEQUENCE:0
DTSTAMP:20260422T190521Z
DTSTART:20260305T070000Z
DTEND:20260305T075000Z
SUMMARY:Архитектура приложений с элементами искусственного интеллекта
LOCATION:11 к. 143
END:VEVENT
BEGIN:VEVENT
UID:jznr@192.168.245.71:3006
SEQUENCE:0
DTSTAMP:20260422T190521Z
DTSTART:20260305T090000Z
DTEND:20260305T104000Z
SUMMARY:Анализ больших данных
LOCATION:11 к. 107
END:VEVENT
BEGIN:VEVENT
UID:uhgz@192.168.245.71:3006
SEQUENCE:0
DTSTAMP:20260422T190521Z
DTSTART:20260305T110000Z
DTEND:20260305T115000Z
SUMMARY:Анализ больших данных
LOCATION:11 к. 107
END:VEVENT
BEGIN:VEVENT
UID:rhan@192.168.245.71:3006
SEQUENCE:0
DTSTAMP:20260422T190521Z
DTSTART:20260305T120000Z
DTEND:20260305T134000Z
SUMMARY:Архитектура приложений с элементами искусственного интеллекта
LOCATION:11 к. 329
END:VEVENT
BEGIN:VEVENT
UID:oevr@192.168.245.71:3006
SEQUENCE:0
DTSTAMP:20260422T190521Z
DTSTART:20260306T060000Z
DTEND:20260306T065000Z
SUMMARY:Топологический анализ данных
LOCATION:НИК А1.08
END:VEVENT
BEGIN:VEVENT
UID:zbsm@192.168.245.71:3006
SEQUENCE:0
DTSTAMP:20260422T190521Z
DTSTART:20260306T080000Z
DTEND:20260306T085000Z
SUMMARY:Топологический анализ данных
LOCATION:НИК А1.08
END:VEVENT
BEGIN:VEVENT
UID:moar@192.168.245.71:3006
SEQUENCE:0
DTSTAMP:20260422T190521Z
DTSTART:20260306T090000Z
DTEND:20260306T104000Z
SUMMARY:Топологический анализ данных
LOCATION:НИК А1.08
END:VEVENT
BEGIN:VEVENT
UID:kbpz@192.168.245.71:3006
SEQUENCE:0
DTSTAMP:20260422T190521Z
DTSTART:20260306T110000Z
DTEND:20260306T115000Z
SUMMARY:Методы оптимизации
LOCATION:НИК А1.08
END:VEVENT
BEGIN:VEVENT
UID:xqc3@192.168.245.71:3006
SEQUENCE:0
DTSTAMP:20260422T190521Z
DTSTART:20260306T130000Z
DTEND:20260306T135000Z
SUMMARY:Методы оптимизации
LOCATION:4 к. 305-2
END:VEVENT
END:VCALENDAR