BEGIN:VCALENDAR
VERSION:2.0
PRODID:-//spbstu.ru//ical//RU
NAME:Расписание группы 5140203/50101
X-WR-CALNAME:Расписание группы 5140203/50101
TIMEZONE-ID:Europe/Moscow
X-WR-TIMEZONE:Europe/Moscow
BEGIN:VEVENT
UID:h8h5@192.168.245.71:3006
SEQUENCE:0
DTSTAMP:20260424T184309Z
DTSTART:20251125T090000Z
DTEND:20251125T104000Z
SUMMARY:Иностранный язык в профессиональной коммуникации\, Английский
LOCATION:11 к. 322
END:VEVENT
BEGIN:VEVENT
UID:kqyh@192.168.245.71:3006
SEQUENCE:0
DTSTAMP:20260424T184309Z
DTSTART:20251125T110000Z
DTEND:20251125T124000Z
SUMMARY:Микропроцессорные системы сбора и обработки данных для управления
LOCATION:11 к. 325
END:VEVENT
BEGIN:VEVENT
UID:v8zy@192.168.245.71:3006
SEQUENCE:0
DTSTAMP:20260424T184309Z
DTSTART:20251126T090000Z
DTEND:20251126T104000Z
SUMMARY:Методы обработки экспериментальных данных
LOCATION:DL Дистанционно
END:VEVENT
BEGIN:VEVENT
UID:w420@192.168.245.71:3006
SEQUENCE:0
DTSTAMP:20260424T184309Z
DTSTART:20251126T110000Z
DTEND:20251126T124000Z
SUMMARY:Методы обработки экспериментальных данных
LOCATION:DL Дистанционно
END:VEVENT
BEGIN:VEVENT
UID:07ah@192.168.245.71:3006
SEQUENCE:0
DTSTAMP:20260424T184309Z
DTSTART:20251126T130000Z
DTEND:20251126T144000Z
SUMMARY:Методы обработки экспериментальных данных
LOCATION:DL Дистанционно
END:VEVENT
BEGIN:VEVENT
UID:ut97@192.168.245.71:3006
SEQUENCE:0
DTSTAMP:20260424T184309Z
DTSTART:20251127T090000Z
DTEND:20251127T104000Z
SUMMARY:Математическая логика
LOCATION:11 к. 107
END:VEVENT
BEGIN:VEVENT
UID:senz@192.168.245.71:3006
SEQUENCE:0
DTSTAMP:20260424T184309Z
DTSTART:20251127T110000Z
DTEND:20251127T124000Z
SUMMARY:Математическая логика
LOCATION:11 к. 332
END:VEVENT
BEGIN:VEVENT
UID:c2lx@192.168.245.71:3006
SEQUENCE:0
DTSTAMP:20260424T184309Z
DTSTART:20251127T130000Z
DTEND:20251127T144000Z
SUMMARY:Управление инновационным проектом
LOCATION:11 к. 107
END:VEVENT
END:VCALENDAR