BEGIN:VCALENDAR
VERSION:2.0
PRODID:-//spbstu.ru//ical//RU
NAME:Расписание группы 5140203/50101
X-WR-CALNAME:Расписание группы 5140203/50101
TIMEZONE-ID:Europe/Moscow
X-WR-TIMEZONE:Europe/Moscow
BEGIN:VEVENT
UID:04o3@192.168.245.71:3006
SEQUENCE:0
DTSTAMP:20260422T011657Z
DTSTART:20260323T090000Z
DTEND:20260323T104000Z
SUMMARY:Современные компьютерные технологии. Виртуализация серверов
LOCATION:11 к. 102
END:VEVENT
BEGIN:VEVENT
UID:yn8b@192.168.245.71:3006
SEQUENCE:0
DTSTAMP:20260422T011657Z
DTSTART:20260323T110000Z
DTEND:20260323T124000Z
SUMMARY:Современные компьютерные технологии. Виртуализация серверов
LOCATION:11 к. 341
END:VEVENT
BEGIN:VEVENT
UID:54rd@192.168.245.71:3006
SEQUENCE:0
DTSTAMP:20260422T011657Z
DTSTART:20260325T070000Z
DTEND:20260325T084000Z
SUMMARY:Методы обработки экспериментальных данных
LOCATION:DL Дистанционно
END:VEVENT
BEGIN:VEVENT
UID:1gtp@192.168.245.71:3006
SEQUENCE:0
DTSTAMP:20260422T011657Z
DTSTART:20260325T090000Z
DTEND:20260325T104000Z
SUMMARY:Метрология качества программного обеспечения
LOCATION:DL Дистанционно
END:VEVENT
BEGIN:VEVENT
UID:s0mx@192.168.245.71:3006
SEQUENCE:0
DTSTAMP:20260422T011657Z
DTSTART:20260325T110000Z
DTEND:20260325T124000Z
SUMMARY:Методы обработки экспериментальных данных
LOCATION:DL Дистанционно
END:VEVENT
BEGIN:VEVENT
UID:55i6@192.168.245.71:3006
SEQUENCE:0
DTSTAMP:20260422T011657Z
DTSTART:20260327T130000Z
DTEND:20260327T144000Z
SUMMARY:Методы обработки экспериментальных данных
LOCATION:11 к. 348
END:VEVENT
BEGIN:VEVENT
UID:l1to@192.168.245.71:3006
SEQUENCE:0
DTSTAMP:20260422T011657Z
DTSTART:20260327T130000Z
DTEND:20260327T144000Z
SUMMARY:Методы обработки экспериментальных данных
LOCATION:11 к. 348
END:VEVENT
END:VCALENDAR