BEGIN:VCALENDAR
VERSION:2.0
PRODID:-//spbstu.ru//ical//RU
NAME:Расписание группы 5140901/51501
X-WR-CALNAME:Расписание группы 5140901/51501
TIMEZONE-ID:Europe/Moscow
X-WR-TIMEZONE:Europe/Moscow
BEGIN:VEVENT
UID:nokg@192.168.245.71:3006
SEQUENCE:0
DTSTAMP:20260424T004052Z
DTSTART:20251020T110000Z
DTEND:20251020T124000Z
SUMMARY:Новые цифровые системы управления
LOCATION:3 к. 402
END:VEVENT
BEGIN:VEVENT
UID:qo6m@192.168.245.71:3006
SEQUENCE:0
DTSTAMP:20260424T004052Z
DTSTART:20251020T130000Z
DTEND:20251020T144000Z
SUMMARY:Новые цифровые системы управления
LOCATION:3 к. 402
END:VEVENT
BEGIN:VEVENT
UID:72zg@192.168.245.71:3006
SEQUENCE:0
DTSTAMP:20260424T004052Z
DTSTART:20251021T070000Z
DTEND:20251021T084000Z
SUMMARY:Технологии разработки программного обеспечения
LOCATION:3 к. 503
END:VEVENT
BEGIN:VEVENT
UID:d0a9@192.168.245.71:3006
SEQUENCE:0
DTSTAMP:20260424T004052Z
DTSTART:20251021T090000Z
DTEND:20251021T104000Z
SUMMARY:Управление инновационным проектом
LOCATION:3 к. 406
END:VEVENT
BEGIN:VEVENT
UID:lqdm@192.168.245.71:3006
SEQUENCE:0
DTSTAMP:20260424T004052Z
DTSTART:20251021T110000Z
DTEND:20251021T124000Z
SUMMARY:Иностранный язык в профессиональной коммуникации\, Английский
LOCATION:3 к. 506
END:VEVENT
BEGIN:VEVENT
UID:7imv@192.168.245.71:3006
SEQUENCE:0
DTSTAMP:20260424T004052Z
DTSTART:20251022T070000Z
DTEND:20251022T084000Z
SUMMARY:Объектно-ориентированное программирование
LOCATION:3 к. 401
END:VEVENT
BEGIN:VEVENT
UID:vf2z@192.168.245.71:3006
SEQUENCE:0
DTSTAMP:20260424T004052Z
DTSTART:20251022T090000Z
DTEND:20251022T104000Z
SUMMARY:Интеллектуальные системы
LOCATION:3 к. 401
END:VEVENT
BEGIN:VEVENT
UID:o0td@192.168.245.71:3006
SEQUENCE:0
DTSTAMP:20260424T004052Z
DTSTART:20251022T110000Z
DTEND:20251022T124000Z
SUMMARY:Интеллектуальные системы
LOCATION:3 к. 303
END:VEVENT
BEGIN:VEVENT
UID:hm1r@192.168.245.71:3006
SEQUENCE:0
DTSTAMP:20260424T004052Z
DTSTART:20251022T110000Z
DTEND:20251022T124000Z
SUMMARY:Интеллектуальные системы
LOCATION:3 к. 303
END:VEVENT
BEGIN:VEVENT
UID:u408@192.168.245.71:3006
SEQUENCE:0
DTSTAMP:20260424T004052Z
DTSTART:20251022T130000Z
DTEND:20251022T144000Z
SUMMARY:Объектно-ориентированное программирование
LOCATION:3 к. 402
END:VEVENT
BEGIN:VEVENT
UID:v66y@192.168.245.71:3006
SEQUENCE:0
DTSTAMP:20260424T004052Z
DTSTART:20251022T130000Z
DTEND:20251022T144000Z
SUMMARY:Объектно-ориентированное программирование
LOCATION:3 к. 402
END:VEVENT
END:VCALENDAR