BEGIN:VCALENDAR
VERSION:2.0
PRODID:-//spbstu.ru//ical//RU
NAME:Расписание группы 5140901/51501
X-WR-CALNAME:Расписание группы 5140901/51501
TIMEZONE-ID:Europe/Moscow
X-WR-TIMEZONE:Europe/Moscow
BEGIN:VEVENT
UID:39p4@192.168.245.71:3006
SEQUENCE:0
DTSTAMP:20260423T061303Z
DTSTART:20251117T110000Z
DTEND:20251117T124000Z
SUMMARY:Новые цифровые системы управления
LOCATION:3 к. 402
END:VEVENT
BEGIN:VEVENT
UID:i3m3@192.168.245.71:3006
SEQUENCE:0
DTSTAMP:20260423T061303Z
DTSTART:20251117T130000Z
DTEND:20251117T144000Z
SUMMARY:Новые цифровые системы управления
LOCATION:3 к. 402
END:VEVENT
BEGIN:VEVENT
UID:9rjp@192.168.245.71:3006
SEQUENCE:0
DTSTAMP:20260423T061303Z
DTSTART:20251118T070000Z
DTEND:20251118T084000Z
SUMMARY:Технологии разработки программного обеспечения
LOCATION:3 к. 503
END:VEVENT
BEGIN:VEVENT
UID:si76@192.168.245.71:3006
SEQUENCE:0
DTSTAMP:20260423T061303Z
DTSTART:20251118T090000Z
DTEND:20251118T104000Z
SUMMARY:Управление инновационным проектом
LOCATION:3 к. 406
END:VEVENT
BEGIN:VEVENT
UID:swof@192.168.245.71:3006
SEQUENCE:0
DTSTAMP:20260423T061303Z
DTSTART:20251118T110000Z
DTEND:20251118T124000Z
SUMMARY:Иностранный язык в профессиональной коммуникации\, Английский
LOCATION:3 к. 506
END:VEVENT
BEGIN:VEVENT
UID:1p5s@192.168.245.71:3006
SEQUENCE:0
DTSTAMP:20260423T061303Z
DTSTART:20251119T070000Z
DTEND:20251119T084000Z
SUMMARY:Объектно-ориентированное программирование
LOCATION:3 к. 401
END:VEVENT
BEGIN:VEVENT
UID:ci11@192.168.245.71:3006
SEQUENCE:0
DTSTAMP:20260423T061303Z
DTSTART:20251119T090000Z
DTEND:20251119T104000Z
SUMMARY:Интеллектуальные системы
LOCATION:3 к. 401
END:VEVENT
BEGIN:VEVENT
UID:7h0o@192.168.245.71:3006
SEQUENCE:0
DTSTAMP:20260423T061303Z
DTSTART:20251119T110000Z
DTEND:20251119T124000Z
SUMMARY:Интеллектуальные системы
LOCATION:3 к. 303
END:VEVENT
BEGIN:VEVENT
UID:xr8q@192.168.245.71:3006
SEQUENCE:0
DTSTAMP:20260423T061303Z
DTSTART:20251119T110000Z
DTEND:20251119T124000Z
SUMMARY:Интеллектуальные системы
LOCATION:3 к. 303
END:VEVENT
BEGIN:VEVENT
UID:ca9a@192.168.245.71:3006
SEQUENCE:0
DTSTAMP:20260423T061303Z
DTSTART:20251119T130000Z
DTEND:20251119T144000Z
SUMMARY:Объектно-ориентированное программирование
LOCATION:3 к. 402
END:VEVENT
BEGIN:VEVENT
UID:vm01@192.168.245.71:3006
SEQUENCE:0
DTSTAMP:20260423T061303Z
DTSTART:20251119T130000Z
DTEND:20251119T144000Z
SUMMARY:Объектно-ориентированное программирование
LOCATION:3 к. 402
END:VEVENT
END:VCALENDAR