BEGIN:VCALENDAR
VERSION:2.0
PRODID:-//spbstu.ru//ical//RU
NAME:Расписание группы 5140901/51501
X-WR-CALNAME:Расписание группы 5140901/51501
TIMEZONE-ID:Europe/Moscow
X-WR-TIMEZONE:Europe/Moscow
BEGIN:VEVENT
UID:lplv@192.168.245.71:3006
SEQUENCE:0
DTSTAMP:20260424T210048Z
DTSTART:20250915T110000Z
DTEND:20250915T124000Z
SUMMARY:Новые цифровые системы управления
LOCATION:3 к. 402
END:VEVENT
BEGIN:VEVENT
UID:cppi@192.168.245.71:3006
SEQUENCE:0
DTSTAMP:20260424T210048Z
DTSTART:20250915T130000Z
DTEND:20250915T144000Z
SUMMARY:Новые цифровые системы управления
LOCATION:3 к. 402
END:VEVENT
BEGIN:VEVENT
UID:jnwz@192.168.245.71:3006
SEQUENCE:0
DTSTAMP:20260424T210048Z
DTSTART:20250916T070000Z
DTEND:20250916T084000Z
SUMMARY:Технологии разработки программного обеспечения
LOCATION:3 к. 503
END:VEVENT
BEGIN:VEVENT
UID:5m2n@192.168.245.71:3006
SEQUENCE:0
DTSTAMP:20260424T210048Z
DTSTART:20250916T090000Z
DTEND:20250916T104000Z
SUMMARY:Технологии разработки программного обеспечения
LOCATION:3 к. 402
END:VEVENT
BEGIN:VEVENT
UID:6a22@192.168.245.71:3006
SEQUENCE:0
DTSTAMP:20260424T210048Z
DTSTART:20250916T110000Z
DTEND:20250916T124000Z
SUMMARY:Иностранный язык в профессиональной коммуникации\, Английский
LOCATION:3 к. 506
END:VEVENT
BEGIN:VEVENT
UID:a1id@192.168.245.71:3006
SEQUENCE:0
DTSTAMP:20260424T210048Z
DTSTART:20250916T130000Z
DTEND:20250916T144000Z
SUMMARY:Цифровые ресурсы в научном исследовании
LOCATION:3 к. 511
END:VEVENT
BEGIN:VEVENT
UID:y5gv@192.168.245.71:3006
SEQUENCE:0
DTSTAMP:20260424T210048Z
DTSTART:20250917T090000Z
DTEND:20250917T104000Z
SUMMARY:Интеллектуальные системы
LOCATION:3 к. 401
END:VEVENT
BEGIN:VEVENT
UID:u2te@192.168.245.71:3006
SEQUENCE:0
DTSTAMP:20260424T210048Z
DTSTART:20250917T110000Z
DTEND:20250917T124000Z
SUMMARY:Интеллектуальные системы
LOCATION:3 к. 303
END:VEVENT
BEGIN:VEVENT
UID:9iux@192.168.245.71:3006
SEQUENCE:0
DTSTAMP:20260424T210048Z
DTSTART:20250917T110000Z
DTEND:20250917T124000Z
SUMMARY:Интеллектуальные системы
LOCATION:3 к. 303
END:VEVENT
BEGIN:VEVENT
UID:79ww@192.168.245.71:3006
SEQUENCE:0
DTSTAMP:20260424T210048Z
DTSTART:20250917T130000Z
DTEND:20250917T144000Z
SUMMARY:Объектно-ориентированное программирование
LOCATION:3 к. 402
END:VEVENT
BEGIN:VEVENT
UID:tens@192.168.245.71:3006
SEQUENCE:0
DTSTAMP:20260424T210048Z
DTSTART:20250917T130000Z
DTEND:20250917T144000Z
SUMMARY:Объектно-ориентированное программирование
LOCATION:3 к. 402
END:VEVENT
END:VCALENDAR