BEGIN:VCALENDAR
VERSION:2.0
PRODID:-//spbstu.ru//ical//RU
NAME:Расписание группы 5140901/51501
X-WR-CALNAME:Расписание группы 5140901/51501
TIMEZONE-ID:Europe/Moscow
X-WR-TIMEZONE:Europe/Moscow
BEGIN:VEVENT
UID:qli3@192.168.245.71:3006
SEQUENCE:0
DTSTAMP:20260425T003850Z
DTSTART:20250908T110000Z
DTEND:20250908T124000Z
SUMMARY:Новые цифровые системы управления
LOCATION:3 к. 402
END:VEVENT
BEGIN:VEVENT
UID:bmgx@192.168.245.71:3006
SEQUENCE:0
DTSTAMP:20260425T003850Z
DTSTART:20250908T130000Z
DTEND:20250908T144000Z
SUMMARY:Новые цифровые системы управления
LOCATION:3 к. 402
END:VEVENT
BEGIN:VEVENT
UID:eb7v@192.168.245.71:3006
SEQUENCE:0
DTSTAMP:20260425T003850Z
DTSTART:20250908T150000Z
DTEND:20250908T164000Z
SUMMARY:Управление инновационным проектом
LOCATION:3 к. 401
END:VEVENT
BEGIN:VEVENT
UID:ad2f@192.168.245.71:3006
SEQUENCE:0
DTSTAMP:20260425T003850Z
DTSTART:20250909T070000Z
DTEND:20250909T084000Z
SUMMARY:Технологии разработки программного обеспечения
LOCATION:3 к. 503
END:VEVENT
BEGIN:VEVENT
UID:4f6o@192.168.245.71:3006
SEQUENCE:0
DTSTAMP:20260425T003850Z
DTSTART:20250909T090000Z
DTEND:20250909T104000Z
SUMMARY:Управление инновационным проектом
LOCATION:3 к. 406
END:VEVENT
BEGIN:VEVENT
UID:c05i@192.168.245.71:3006
SEQUENCE:0
DTSTAMP:20260425T003850Z
DTSTART:20250909T110000Z
DTEND:20250909T124000Z
SUMMARY:Иностранный язык в профессиональной коммуникации\, Английский
LOCATION:3 к. 506
END:VEVENT
BEGIN:VEVENT
UID:66s7@192.168.245.71:3006
SEQUENCE:0
DTSTAMP:20260425T003850Z
DTSTART:20250909T150000Z
DTEND:20250909T164000Z
SUMMARY:Цифровые ресурсы в научном исследовании
LOCATION:3 к. 401
END:VEVENT
BEGIN:VEVENT
UID:1klj@192.168.245.71:3006
SEQUENCE:0
DTSTAMP:20260425T003850Z
DTSTART:20250910T070000Z
DTEND:20250910T084000Z
SUMMARY:Объектно-ориентированное программирование
LOCATION:3 к. 401
END:VEVENT
BEGIN:VEVENT
UID:1i62@192.168.245.71:3006
SEQUENCE:0
DTSTAMP:20260425T003850Z
DTSTART:20250910T090000Z
DTEND:20250910T104000Z
SUMMARY:Интеллектуальные системы
LOCATION:3 к. 401
END:VEVENT
BEGIN:VEVENT
UID:pl2x@192.168.245.71:3006
SEQUENCE:0
DTSTAMP:20260425T003850Z
DTSTART:20250910T110000Z
DTEND:20250910T124000Z
SUMMARY:Интеллектуальные системы
LOCATION:3 к. 303
END:VEVENT
BEGIN:VEVENT
UID:sg54@192.168.245.71:3006
SEQUENCE:0
DTSTAMP:20260425T003850Z
DTSTART:20250910T110000Z
DTEND:20250910T124000Z
SUMMARY:Интеллектуальные системы
LOCATION:3 к. 303
END:VEVENT
BEGIN:VEVENT
UID:xeh2@192.168.245.71:3006
SEQUENCE:0
DTSTAMP:20260425T003850Z
DTSTART:20250910T130000Z
DTEND:20250910T144000Z
SUMMARY:Объектно-ориентированное программирование
LOCATION:3 к. 402
END:VEVENT
BEGIN:VEVENT
UID:dt0y@192.168.245.71:3006
SEQUENCE:0
DTSTAMP:20260425T003850Z
DTSTART:20250910T130000Z
DTEND:20250910T144000Z
SUMMARY:Объектно-ориентированное программирование
LOCATION:3 к. 402
END:VEVENT
END:VCALENDAR