BEGIN:VCALENDAR
VERSION:2.0
PRODID:-//spbstu.ru//ical//RU
NAME:Расписание группы 5140901/52001
X-WR-CALNAME:Расписание группы 5140901/52001
TIMEZONE-ID:Europe/Moscow
X-WR-TIMEZONE:Europe/Moscow
BEGIN:VEVENT
UID:pyjy@192.168.245.71:3006
SEQUENCE:0
DTSTAMP:20260422T060056Z
DTSTART:20260303T070000Z
DTEND:20260303T084000Z
SUMMARY:Технологии разработки программного обеспечения
LOCATION:3 к. 401
END:VEVENT
BEGIN:VEVENT
UID:xm43@192.168.245.71:3006
SEQUENCE:0
DTSTAMP:20260422T060056Z
DTSTART:20260303T090000Z
DTEND:20260303T104000Z
SUMMARY:Модульные платформы для систем измерения\, управления и автоматиза
 ции
LOCATION:3 к. 507
END:VEVENT
BEGIN:VEVENT
UID:znck@192.168.245.71:3006
SEQUENCE:0
DTSTAMP:20260422T060056Z
DTSTART:20260303T110000Z
DTEND:20260303T124000Z
SUMMARY:Методы оптимизации и принятия решений
LOCATION:3 к. 401
END:VEVENT
BEGIN:VEVENT
UID:t9qj@192.168.245.71:3006
SEQUENCE:0
DTSTAMP:20260422T060056Z
DTSTART:20260304T090000Z
DTEND:20260304T104000Z
SUMMARY:Нейронные сети
LOCATION:3 к. 401
END:VEVENT
BEGIN:VEVENT
UID:ekzh@192.168.245.71:3006
SEQUENCE:0
DTSTAMP:20260422T060056Z
DTSTART:20260304T110000Z
DTEND:20260304T124000Z
SUMMARY:Администрирование компьютерных сетей
LOCATION:3 к. 405
END:VEVENT
BEGIN:VEVENT
UID:5vx9@192.168.245.71:3006
SEQUENCE:0
DTSTAMP:20260422T060056Z
DTSTART:20260304T130000Z
DTEND:20260304T144000Z
SUMMARY:Нейронные сети
LOCATION:3 к. 303
END:VEVENT
BEGIN:VEVENT
UID:zm7c@192.168.245.71:3006
SEQUENCE:0
DTSTAMP:20260422T060056Z
DTSTART:20260304T150000Z
DTEND:20260304T164000Z
SUMMARY:Администрирование компьютерных сетей
LOCATION:3 к. 405
END:VEVENT
BEGIN:VEVENT
UID:fcs8@192.168.245.71:3006
SEQUENCE:0
DTSTAMP:20260422T060056Z
DTSTART:20260305T150000Z
DTEND:20260305T164000Z
SUMMARY:Объектно-ориентированное программирование
LOCATION:3 к. 303
END:VEVENT
BEGIN:VEVENT
UID:8lr4@192.168.245.71:3006
SEQUENCE:0
DTSTAMP:20260422T060056Z
DTSTART:20260307T070000Z
DTEND:20260307T084000Z
SUMMARY:Цифровые технологии статистической обработки
LOCATION:3 к. 400
END:VEVENT
BEGIN:VEVENT
UID:c4nv@192.168.245.71:3006
SEQUENCE:0
DTSTAMP:20260422T060056Z
DTSTART:20260307T090000Z
DTEND:20260307T104000Z
SUMMARY:Цифровые технологии статистической обработки
LOCATION:3 к. 400
END:VEVENT
BEGIN:VEVENT
UID:rxux@192.168.245.71:3006
SEQUENCE:0
DTSTAMP:20260422T060056Z
DTSTART:20260307T110000Z
DTEND:20260307T124000Z
SUMMARY:Цифровые технологии статистической обработки
LOCATION:3 к. 400
END:VEVENT
END:VCALENDAR