BEGIN:VCALENDAR
VERSION:2.0
PRODID:-//spbstu.ru//ical//RU
NAME:Расписание группы 5140901/52001
X-WR-CALNAME:Расписание группы 5140901/52001
TIMEZONE-ID:Europe/Moscow
X-WR-TIMEZONE:Europe/Moscow
BEGIN:VEVENT
UID:gg18@192.168.245.71:3006
SEQUENCE:0
DTSTAMP:20260422T043054Z
DTSTART:20260310T070000Z
DTEND:20260310T084000Z
SUMMARY:Технологии разработки программного обеспечения
LOCATION:3 к. 401
END:VEVENT
BEGIN:VEVENT
UID:eiy0@192.168.245.71:3006
SEQUENCE:0
DTSTAMP:20260422T043054Z
DTSTART:20260310T090000Z
DTEND:20260310T104000Z
SUMMARY:Модульные платформы для систем измерения\, управления и автоматиза
 ции
LOCATION:3 к. 507
END:VEVENT
BEGIN:VEVENT
UID:cfjk@192.168.245.71:3006
SEQUENCE:0
DTSTAMP:20260422T043054Z
DTSTART:20260310T110000Z
DTEND:20260310T124000Z
SUMMARY:Технологии разработки программного обеспечения
LOCATION:3 к. 406
END:VEVENT
BEGIN:VEVENT
UID:6aye@192.168.245.71:3006
SEQUENCE:0
DTSTAMP:20260422T043054Z
DTSTART:20260311T090000Z
DTEND:20260311T104000Z
SUMMARY:Нейронные сети
LOCATION:3 к. 401
END:VEVENT
BEGIN:VEVENT
UID:vmyc@192.168.245.71:3006
SEQUENCE:0
DTSTAMP:20260422T043054Z
DTSTART:20260311T110000Z
DTEND:20260311T124000Z
SUMMARY:Администрирование компьютерных сетей
LOCATION:3 к. 405
END:VEVENT
BEGIN:VEVENT
UID:mo74@192.168.245.71:3006
SEQUENCE:0
DTSTAMP:20260422T043054Z
DTSTART:20260311T130000Z
DTEND:20260311T144000Z
SUMMARY:Нейронные сети
LOCATION:3 к. 303
END:VEVENT
BEGIN:VEVENT
UID:53wr@192.168.245.71:3006
SEQUENCE:0
DTSTAMP:20260422T043054Z
DTSTART:20260312T070000Z
DTEND:20260312T084000Z
SUMMARY:Представление знаний в информационных системах
LOCATION:ГранитЭлектрон Практическая
END:VEVENT
BEGIN:VEVENT
UID:yid3@192.168.245.71:3006
SEQUENCE:0
DTSTAMP:20260422T043054Z
DTSTART:20260312T090000Z
DTEND:20260312T104000Z
SUMMARY:Представление знаний в информационных системах
LOCATION:ГранитЭлектрон Практическая
END:VEVENT
BEGIN:VEVENT
UID:l97p@192.168.245.71:3006
SEQUENCE:0
DTSTAMP:20260422T043054Z
DTSTART:20260312T110000Z
DTEND:20260312T124000Z
SUMMARY:Представление знаний в информационных системах
LOCATION:ГранитЭлектрон Практическая
END:VEVENT
BEGIN:VEVENT
UID:ctpo@192.168.245.71:3006
SEQUENCE:0
DTSTAMP:20260422T043054Z
DTSTART:20260312T130000Z
DTEND:20260312T144000Z
SUMMARY:Объектно-ориентированное программирование
LOCATION:3 к. 404
END:VEVENT
BEGIN:VEVENT
UID:v56r@192.168.245.71:3006
SEQUENCE:0
DTSTAMP:20260422T043054Z
DTSTART:20260312T150000Z
DTEND:20260312T164000Z
SUMMARY:Объектно-ориентированное программирование
LOCATION:3 к. 404
END:VEVENT
END:VCALENDAR