BEGIN:VCALENDAR
VERSION:2.0
PRODID:-//spbstu.ru//ical//RU
NAME:Расписание группы 5140902/50401
X-WR-CALNAME:Расписание группы 5140902/50401
TIMEZONE-ID:Europe/Moscow
X-WR-TIMEZONE:Europe/Moscow
BEGIN:VEVENT
UID:mv66@192.168.245.71:3006
SEQUENCE:0
DTSTAMP:20260422T094457Z
DTSTART:20260216T150000Z
DTEND:20260216T164000Z
SUMMARY:Информационная безопасность и защита информации
LOCATION:9 к. 113
END:VEVENT
BEGIN:VEVENT
UID:gvz9@192.168.245.71:3006
SEQUENCE:0
DTSTAMP:20260422T094457Z
DTSTART:20260217T070000Z
DTEND:20260217T084000Z
SUMMARY:Нейрокомпьютерные интерфейсы
LOCATION:3 к. 506
END:VEVENT
BEGIN:VEVENT
UID:c5k4@192.168.245.71:3006
SEQUENCE:0
DTSTAMP:20260422T094457Z
DTSTART:20260217T090000Z
DTEND:20260217T104000Z
SUMMARY:Нейрокомпьютерные интерфейсы
LOCATION:3 к. 505
END:VEVENT
BEGIN:VEVENT
UID:dy15@192.168.245.71:3006
SEQUENCE:0
DTSTAMP:20260422T094457Z
DTSTART:20260217T110000Z
DTEND:20260217T124000Z
SUMMARY:Функциональный анализ и управление
LOCATION:3 к. 506
END:VEVENT
BEGIN:VEVENT
UID:be4g@192.168.245.71:3006
SEQUENCE:0
DTSTAMP:20260422T094457Z
DTSTART:20260217T150000Z
DTEND:20260217T164000Z
SUMMARY:Цифровые ресурсы в научном исследовании
LOCATION:3 к. 402
END:VEVENT
BEGIN:VEVENT
UID:mw3z@192.168.245.71:3006
SEQUENCE:0
DTSTAMP:20260422T094457Z
DTSTART:20260218T070000Z
DTEND:20260218T084000Z
SUMMARY:Корпоративные информационные системы
LOCATION:3 к. 505
END:VEVENT
BEGIN:VEVENT
UID:iiz8@192.168.245.71:3006
SEQUENCE:0
DTSTAMP:20260422T094457Z
DTSTART:20260218T090000Z
DTEND:20260218T104000Z
SUMMARY:Проектная деятельность
LOCATION:3 к. 505
END:VEVENT
BEGIN:VEVENT
UID:2hwr@192.168.245.71:3006
SEQUENCE:0
DTSTAMP:20260422T094457Z
DTSTART:20260218T110000Z
DTEND:20260218T124000Z
SUMMARY:Корпоративные информационные системы
LOCATION:3 к. 506
END:VEVENT
BEGIN:VEVENT
UID:od1z@192.168.245.71:3006
SEQUENCE:0
DTSTAMP:20260422T094457Z
DTSTART:20260218T130000Z
DTEND:20260218T144000Z
SUMMARY:Проектная деятельность
LOCATION:3 к. 506
END:VEVENT
BEGIN:VEVENT
UID:uuxi@192.168.245.71:3006
SEQUENCE:0
DTSTAMP:20260422T094457Z
DTSTART:20260219T150000Z
DTEND:20260219T164000Z
SUMMARY:Системная инженерия
LOCATION:3 к. 505
END:VEVENT
BEGIN:VEVENT
UID:ocf4@192.168.245.71:3006
SEQUENCE:0
DTSTAMP:20260422T094457Z
DTSTART:20260221T090000Z
DTEND:20260221T104000Z
SUMMARY:Системный анализ информационно-управляющих комплексов
LOCATION:9 к. 113
END:VEVENT
BEGIN:VEVENT
UID:5k85@192.168.245.71:3006
SEQUENCE:0
DTSTAMP:20260422T094457Z
DTSTART:20260221T110000Z
DTEND:20260221T124000Z
SUMMARY:Системный анализ информационно-управляющих комплексов
LOCATION:9 к. 113
END:VEVENT
BEGIN:VEVENT
UID:a2yu@192.168.245.71:3006
SEQUENCE:0
DTSTAMP:20260422T094457Z
DTSTART:20260221T130000Z
DTEND:20260221T144000Z
SUMMARY:Системный анализ информационно-управляющих комплексов
LOCATION:9 к. 113
END:VEVENT
END:VCALENDAR