BEGIN:VCALENDAR
VERSION:2.0
PRODID:-//spbstu.ru//ical//RU
NAME:Расписание группы 5140902/50401
X-WR-CALNAME:Расписание группы 5140902/50401
TIMEZONE-ID:Europe/Moscow
X-WR-TIMEZONE:Europe/Moscow
BEGIN:VEVENT
UID:b5rx@192.168.245.71:3006
SEQUENCE:0
DTSTAMP:20260421T051603Z
DTSTART:20260428T070000Z
DTEND:20260428T084000Z
SUMMARY:Нейрокомпьютерные интерфейсы
LOCATION:3 к. 506
END:VEVENT
BEGIN:VEVENT
UID:ujcw@192.168.245.71:3006
SEQUENCE:0
DTSTAMP:20260421T051603Z
DTSTART:20260428T090000Z
DTEND:20260428T104000Z
SUMMARY:Нейрокомпьютерные интерфейсы
LOCATION:3 к. 505
END:VEVENT
BEGIN:VEVENT
UID:gmsy@192.168.245.71:3006
SEQUENCE:0
DTSTAMP:20260421T051603Z
DTSTART:20260428T110000Z
DTEND:20260428T124000Z
SUMMARY:Функциональный анализ и управление
LOCATION:3 к. 506
END:VEVENT
BEGIN:VEVENT
UID:0tie@192.168.245.71:3006
SEQUENCE:0
DTSTAMP:20260421T051603Z
DTSTART:20260429T070000Z
DTEND:20260429T084000Z
SUMMARY:Корпоративные информационные системы
LOCATION:3 к. 505
END:VEVENT
BEGIN:VEVENT
UID:4tpa@192.168.245.71:3006
SEQUENCE:0
DTSTAMP:20260421T051603Z
DTSTART:20260429T090000Z
DTEND:20260429T104000Z
SUMMARY:Проектная деятельность
LOCATION:3 к. 505
END:VEVENT
BEGIN:VEVENT
UID:wzgi@192.168.245.71:3006
SEQUENCE:0
DTSTAMP:20260421T051603Z
DTSTART:20260429T110000Z
DTEND:20260429T124000Z
SUMMARY:Корпоративные информационные системы
LOCATION:3 к. 506
END:VEVENT
BEGIN:VEVENT
UID:kmww@192.168.245.71:3006
SEQUENCE:0
DTSTAMP:20260421T051603Z
DTSTART:20260502T090000Z
DTEND:20260502T104000Z
SUMMARY:Системный анализ информационно-управляющих комплексов
LOCATION:9 к. 113
END:VEVENT
BEGIN:VEVENT
UID:tx59@192.168.245.71:3006
SEQUENCE:0
DTSTAMP:20260421T051603Z
DTSTART:20260502T110000Z
DTEND:20260502T124000Z
SUMMARY:Системный анализ информационно-управляющих комплексов
LOCATION:9 к. 113
END:VEVENT
BEGIN:VEVENT
UID:ezge@192.168.245.71:3006
SEQUENCE:0
DTSTAMP:20260421T051603Z
DTSTART:20260502T130000Z
DTEND:20260502T144000Z
SUMMARY:Системный анализ информационно-управляющих комплексов
LOCATION:9 к. 113
END:VEVENT
END:VCALENDAR