BEGIN:VCALENDAR
VERSION:2.0
PRODID:-//spbstu.ru//ical//RU
NAME:Расписание группы 5140903/50401
X-WR-CALNAME:Расписание группы 5140903/50401
TIMEZONE-ID:Europe/Moscow
X-WR-TIMEZONE:Europe/Moscow
BEGIN:VEVENT
UID:4968@192.168.245.71:3006
SEQUENCE:0
DTSTAMP:20260425T134411Z
DTSTART:20251215T090000Z
DTEND:20251215T104000Z
SUMMARY:Методы математической статистики в машинном обучении
LOCATION:11 к. 322
END:VEVENT
BEGIN:VEVENT
UID:ptpq@192.168.245.71:3006
SEQUENCE:0
DTSTAMP:20260425T134411Z
DTSTART:20251215T110000Z
DTEND:20251215T124000Z
SUMMARY:Технологии бизнес-инжиниринга
LOCATION:11 к. 102
END:VEVENT
BEGIN:VEVENT
UID:dmtu@192.168.245.71:3006
SEQUENCE:0
DTSTAMP:20260425T134411Z
DTSTART:20251215T130000Z
DTEND:20251215T144000Z
SUMMARY:Технологии бизнес-инжиниринга
LOCATION:11 к. 321
END:VEVENT
BEGIN:VEVENT
UID:lw0v@192.168.245.71:3006
SEQUENCE:0
DTSTAMP:20260425T134411Z
DTSTART:20251217T070000Z
DTEND:20251217T094000Z
SUMMARY:Цифровые ресурсы в научном исследовании
LOCATION:11 к. 341
END:VEVENT
BEGIN:VEVENT
UID:ofb4@192.168.245.71:3006
SEQUENCE:0
DTSTAMP:20260425T134411Z
DTSTART:20251217T100000Z
DTEND:20251217T124000Z
SUMMARY:Управление инновационным проектом
LOCATION:11 к. 107
END:VEVENT
BEGIN:VEVENT
UID:sk4j@192.168.245.71:3006
SEQUENCE:0
DTSTAMP:20260425T134411Z
DTSTART:20251220T070000Z
DTEND:20251220T120000Z
SUMMARY:Методы обработки экспериментальных данных
LOCATION:11 к. 322
END:VEVENT
END:VCALENDAR