BEGIN:VCALENDAR
VERSION:2.0
PRODID:-//spbstu.ru//ical//RU
NAME:Расписание группы 5140903/50401
X-WR-CALNAME:Расписание группы 5140903/50401
TIMEZONE-ID:Europe/Moscow
X-WR-TIMEZONE:Europe/Moscow
BEGIN:VEVENT
UID:vyag@192.168.245.71:3006
SEQUENCE:0
DTSTAMP:20260425T150631Z
DTSTART:20251208T090000Z
DTEND:20251208T104000Z
SUMMARY:Методы математической статистики в машинном обучении
LOCATION:11 к. 322
END:VEVENT
BEGIN:VEVENT
UID:fez1@192.168.245.71:3006
SEQUENCE:0
DTSTAMP:20260425T150631Z
DTSTART:20251208T110000Z
DTEND:20251208T124000Z
SUMMARY:Технологии бизнес-инжиниринга
LOCATION:11 к. 102
END:VEVENT
BEGIN:VEVENT
UID:vq3h@192.168.245.71:3006
SEQUENCE:0
DTSTAMP:20260425T150631Z
DTSTART:20251211T070000Z
DTEND:20251211T084000Z
SUMMARY:Цифровые ресурсы в научном исследовании
LOCATION:11 к. 341
END:VEVENT
BEGIN:VEVENT
UID:1780@192.168.245.71:3006
SEQUENCE:0
DTSTAMP:20260425T150631Z
DTSTART:20251211T090000Z
DTEND:20251211T104000Z
SUMMARY:Методы обработки экспериментальных данных
LOCATION:11 к. 341
END:VEVENT
BEGIN:VEVENT
UID:h4ov@192.168.245.71:3006
SEQUENCE:0
DTSTAMP:20260425T150631Z
DTSTART:20251211T110000Z
DTEND:20251211T124000Z
SUMMARY:Иностранный язык в профессиональной коммуникации\, Английский
LOCATION:11 к. 322
END:VEVENT
BEGIN:VEVENT
UID:uolg@192.168.245.71:3006
SEQUENCE:0
DTSTAMP:20260425T150631Z
DTSTART:20251211T130000Z
DTEND:20251211T144000Z
SUMMARY:Управление инновационным проектом
LOCATION:11 к. 216
END:VEVENT
BEGIN:VEVENT
UID:e9zy@192.168.245.71:3006
SEQUENCE:0
DTSTAMP:20260425T150631Z
DTSTART:20251212T070000Z
DTEND:20251212T080000Z
SUMMARY:Научно-исследовательская работа магистра
LOCATION:11 к. 216
END:VEVENT
END:VCALENDAR