BEGIN:VCALENDAR
VERSION:2.0
PRODID:-//spbstu.ru//ical//RU
NAME:Расписание группы 5140903/50401
X-WR-CALNAME:Расписание группы 5140903/50401
TIMEZONE-ID:Europe/Moscow
X-WR-TIMEZONE:Europe/Moscow
BEGIN:VEVENT
UID:36zg@192.168.245.71:3006
SEQUENCE:0
DTSTAMP:20260422T094518Z
DTSTART:20260310T060000Z
DTEND:20260310T065000Z
SUMMARY:Методики разработки современных WEB-приложений
LOCATION:DL Дистанционно
END:VEVENT
BEGIN:VEVENT
UID:4cr9@192.168.245.71:3006
SEQUENCE:0
DTSTAMP:20260422T094518Z
DTSTART:20260310T070000Z
DTEND:20260310T084000Z
SUMMARY:Методики разработки современных WEB-приложений
LOCATION:DL Дистанционно
END:VEVENT
BEGIN:VEVENT
UID:zdfq@192.168.245.71:3006
SEQUENCE:0
DTSTAMP:20260422T094518Z
DTSTART:20260312T060000Z
DTEND:20260312T065000Z
SUMMARY:Методы и технологии анализа данных
LOCATION:11 к. 107
END:VEVENT
BEGIN:VEVENT
UID:w8tg@192.168.245.71:3006
SEQUENCE:0
DTSTAMP:20260422T094518Z
DTSTART:20260312T070000Z
DTEND:20260312T084000Z
SUMMARY:Методы и технологии анализа данных
LOCATION:11 к. 341
END:VEVENT
BEGIN:VEVENT
UID:8fed@192.168.245.71:3006
SEQUENCE:0
DTSTAMP:20260422T094518Z
DTSTART:20260312T070000Z
DTEND:20260312T084000Z
SUMMARY:Методы обработки экспериментальных данных
LOCATION:11 к. 322
END:VEVENT
BEGIN:VEVENT
UID:yr11@192.168.245.71:3006
SEQUENCE:0
DTSTAMP:20260422T094518Z
DTSTART:20260312T090000Z
DTEND:20260312T104000Z
SUMMARY:Методы обработки экспериментальных данных
LOCATION:11 к. 102
END:VEVENT
BEGIN:VEVENT
UID:qoc7@192.168.245.71:3006
SEQUENCE:0
DTSTAMP:20260422T094518Z
DTSTART:20260312T110000Z
DTEND:20260312T124000Z
SUMMARY:Методы обработки экспериментальных данных
LOCATION:11 к. 102
END:VEVENT
END:VCALENDAR