BEGIN:VCALENDAR
VERSION:2.0
PRODID:-//spbstu.ru//ical//RU
NAME:Расписание группы 5140903/50401
X-WR-CALNAME:Расписание группы 5140903/50401
TIMEZONE-ID:Europe/Moscow
X-WR-TIMEZONE:Europe/Moscow
BEGIN:VEVENT
UID:8u98@192.168.245.71:3006
SEQUENCE:0
DTSTAMP:20260421T132918Z
DTSTART:20260420T090000Z
DTEND:20260420T104000Z
SUMMARY:Методология преподавания компьютерных дисциплин
LOCATION:11 к. 211
END:VEVENT
BEGIN:VEVENT
UID:9fep@192.168.245.71:3006
SEQUENCE:0
DTSTAMP:20260421T132918Z
DTSTART:20260420T110000Z
DTEND:20260420T124000Z
SUMMARY:Системы управления знаниями
LOCATION:11 к. 102
END:VEVENT
BEGIN:VEVENT
UID:isu3@192.168.245.71:3006
SEQUENCE:0
DTSTAMP:20260421T132918Z
DTSTART:20260420T130000Z
DTEND:20260420T144000Z
SUMMARY:Системы управления знаниями
LOCATION:11 к. 330
END:VEVENT
BEGIN:VEVENT
UID:3j9u@192.168.245.71:3006
SEQUENCE:0
DTSTAMP:20260421T132918Z
DTSTART:20260421T060000Z
DTEND:20260421T065000Z
SUMMARY:Методики разработки современных WEB-приложений
LOCATION:DL Дистанционно
END:VEVENT
BEGIN:VEVENT
UID:dkqw@192.168.245.71:3006
SEQUENCE:0
DTSTAMP:20260421T132918Z
DTSTART:20260421T070000Z
DTEND:20260421T084000Z
SUMMARY:Методики разработки современных WEB-приложений
LOCATION:DL Дистанционно
END:VEVENT
BEGIN:VEVENT
UID:vokv@192.168.245.71:3006
SEQUENCE:0
DTSTAMP:20260421T132918Z
DTSTART:20260423T060000Z
DTEND:20260423T065000Z
SUMMARY:Методы и технологии анализа данных
LOCATION:11 к. 107
END:VEVENT
BEGIN:VEVENT
UID:jscl@192.168.245.71:3006
SEQUENCE:0
DTSTAMP:20260421T132918Z
DTSTART:20260423T070000Z
DTEND:20260423T084000Z
SUMMARY:Методы и технологии анализа данных
LOCATION:11 к. 341
END:VEVENT
BEGIN:VEVENT
UID:1di8@192.168.245.71:3006
SEQUENCE:0
DTSTAMP:20260421T132918Z
DTSTART:20260423T090000Z
DTEND:20260423T104000Z
SUMMARY:Методы обработки экспериментальных данных
LOCATION:11 к. 102
END:VEVENT
BEGIN:VEVENT
UID:1rzm@192.168.245.71:3006
SEQUENCE:0
DTSTAMP:20260421T132918Z
DTSTART:20260423T110000Z
DTEND:20260423T124000Z
SUMMARY:Методы обработки экспериментальных данных
LOCATION:11 к. 326
END:VEVENT
END:VCALENDAR