BEGIN:VCALENDAR
VERSION:2.0
PRODID:-//spbstu.ru//ical//RU
NAME:Расписание группы 5140904/50101
X-WR-CALNAME:Расписание группы 5140904/50101
TIMEZONE-ID:Europe/Moscow
X-WR-TIMEZONE:Europe/Moscow
BEGIN:VEVENT
UID:rrd0@192.168.245.71:3006
SEQUENCE:0
DTSTAMP:20260421T051609Z
DTSTART:20260420T090000Z
DTEND:20260420T104000Z
SUMMARY:Процессы управления качеством программного обеспечения
LOCATION:3 к. 101
END:VEVENT
BEGIN:VEVENT
UID:d5i2@192.168.245.71:3006
SEQUENCE:0
DTSTAMP:20260421T051609Z
DTSTART:20260420T110000Z
DTEND:20260420T124000Z
SUMMARY:Процессы управления качеством программного обеспечения
LOCATION:3 к. 107
END:VEVENT
BEGIN:VEVENT
UID:3ehd@192.168.245.71:3006
SEQUENCE:0
DTSTAMP:20260421T051609Z
DTSTART:20260420T130000Z
DTEND:20260420T144000Z
SUMMARY:Современные методы синтеза программ
LOCATION:3 к. 104
END:VEVENT
BEGIN:VEVENT
UID:uvyc@192.168.245.71:3006
SEQUENCE:0
DTSTAMP:20260421T051609Z
DTSTART:20260423T110000Z
DTEND:20260423T124000Z
SUMMARY:Статистическая обработка данных
LOCATION:3 к. 305
END:VEVENT
BEGIN:VEVENT
UID:0gix@192.168.245.71:3006
SEQUENCE:0
DTSTAMP:20260421T051609Z
DTSTART:20260424T090000Z
DTEND:20260424T104000Z
SUMMARY:Программирование сетей и инфокоммуникаций вычислительных комплексо
 в
LOCATION:3 к. 104
END:VEVENT
BEGIN:VEVENT
UID:222r@192.168.245.71:3006
SEQUENCE:0
DTSTAMP:20260421T051609Z
DTSTART:20260424T110000Z
DTEND:20260424T124000Z
SUMMARY:Системы программирования
LOCATION:3 к. 104
END:VEVENT
BEGIN:VEVENT
UID:75r7@192.168.245.71:3006
SEQUENCE:0
DTSTAMP:20260421T051609Z
DTSTART:20260424T130000Z
DTEND:20260424T144000Z
SUMMARY:Системы программирования
LOCATION:3 к. 105
END:VEVENT
BEGIN:VEVENT
UID:7f0r@192.168.245.71:3006
SEQUENCE:0
DTSTAMP:20260421T051609Z
DTSTART:20260425T070000Z
DTEND:20260425T084000Z
SUMMARY:Инфраструктура компиляторов LLVM в высокопроизводительных вычислен
 иях
LOCATION:3 к. 107
END:VEVENT
END:VCALENDAR