BEGIN:VCALENDAR
VERSION:2.0
PRODID:-//spbstu.ru//ical//RU
NAME:Расписание группы 5140904/50102
X-WR-CALNAME:Расписание группы 5140904/50102
TIMEZONE-ID:Europe/Moscow
X-WR-TIMEZONE:Europe/Moscow
BEGIN:VEVENT
UID:v6nl@192.168.245.71:3006
SEQUENCE:0
DTSTAMP:20260424T172546Z
DTSTART:20251103T090000Z
DTEND:20251103T104000Z
SUMMARY:Суперкомпьютеры и высокопроизводительные вычисления
LOCATION:3 к. 210
END:VEVENT
BEGIN:VEVENT
UID:xtgk@192.168.245.71:3006
SEQUENCE:0
DTSTAMP:20260424T172546Z
DTSTART:20251103T130000Z
DTEND:20251103T144000Z
SUMMARY:Иностранный язык в профессиональной коммуникации\, Английский
LOCATION:3 к. 501
END:VEVENT
BEGIN:VEVENT
UID:r448@192.168.245.71:3006
SEQUENCE:0
DTSTAMP:20260424T172546Z
DTSTART:20251105T110000Z
DTEND:20251105T124000Z
SUMMARY:Управление конфигурацией программного обеспечения
LOCATION:3 к. 211
END:VEVENT
BEGIN:VEVENT
UID:09g8@192.168.245.71:3006
SEQUENCE:0
DTSTAMP:20260424T172546Z
DTSTART:20251107T070000Z
DTEND:20251107T084000Z
SUMMARY:Управление конфигурацией программного обеспечения
LOCATION:3 к. 101
END:VEVENT
BEGIN:VEVENT
UID:7iuu@192.168.245.71:3006
SEQUENCE:0
DTSTAMP:20260424T172546Z
DTSTART:20251107T090000Z
DTEND:20251107T104000Z
SUMMARY:Наука о данных и аналитика больших объемов информации
LOCATION:3 к. 101
END:VEVENT
BEGIN:VEVENT
UID:ruhk@192.168.245.71:3006
SEQUENCE:0
DTSTAMP:20260424T172546Z
DTSTART:20251107T110000Z
DTEND:20251107T124000Z
SUMMARY:Наука о данных и аналитика больших объемов информации
LOCATION:3 к. 107
END:VEVENT
BEGIN:VEVENT
UID:h4o8@192.168.245.71:3006
SEQUENCE:0
DTSTAMP:20260424T172546Z
DTSTART:20251107T130000Z
DTEND:20251107T144000Z
SUMMARY:Наука о данных и аналитика больших объемов информации
LOCATION:3 к. 107
END:VEVENT
END:VCALENDAR