BEGIN:VCALENDAR
VERSION:2.0
PRODID:-//spbstu.ru//ical//RU
NAME:Расписание группы 5140904/50102
X-WR-CALNAME:Расписание группы 5140904/50102
TIMEZONE-ID:Europe/Moscow
X-WR-TIMEZONE:Europe/Moscow
BEGIN:VEVENT
UID:unj1@192.168.245.71:3006
SEQUENCE:0
DTSTAMP:20260422T190523Z
DTSTART:20260202T090000Z
DTEND:20260202T104000Z
SUMMARY:Системы программирования
LOCATION:3 к. 104
END:VEVENT
BEGIN:VEVENT
UID:feu9@192.168.245.71:3006
SEQUENCE:0
DTSTAMP:20260422T190523Z
DTSTART:20260202T110000Z
DTEND:20260202T124000Z
SUMMARY:Современные методы синтеза программ
LOCATION:3 к. 104
END:VEVENT
BEGIN:VEVENT
UID:74xf@192.168.245.71:3006
SEQUENCE:0
DTSTAMP:20260422T190523Z
DTSTART:20260202T130000Z
DTEND:20260202T144000Z
SUMMARY:Процессы управления качеством программного обеспечения
LOCATION:3 к. 107
END:VEVENT
BEGIN:VEVENT
UID:lk4i@192.168.245.71:3006
SEQUENCE:0
DTSTAMP:20260422T190523Z
DTSTART:20260203T090000Z
DTEND:20260203T104000Z
SUMMARY:Современные методы синтеза программ
LOCATION:3 к. 501
END:VEVENT
BEGIN:VEVENT
UID:1zb3@192.168.245.71:3006
SEQUENCE:0
DTSTAMP:20260422T190523Z
DTSTART:20260203T110000Z
DTEND:20260203T124000Z
SUMMARY:Проблемы безопасности программных систем
LOCATION:3 к. 101
END:VEVENT
BEGIN:VEVENT
UID:brre@192.168.245.71:3006
SEQUENCE:0
DTSTAMP:20260422T190523Z
DTSTART:20260203T130000Z
DTEND:20260203T144000Z
SUMMARY:Проблемы безопасности программных систем
LOCATION:3 к. 101
END:VEVENT
BEGIN:VEVENT
UID:ni3f@192.168.245.71:3006
SEQUENCE:0
DTSTAMP:20260422T190523Z
DTSTART:20260204T070000Z
DTEND:20260204T084000Z
SUMMARY:Системы программирования
LOCATION:3 к. 107
END:VEVENT
BEGIN:VEVENT
UID:kibr@192.168.245.71:3006
SEQUENCE:0
DTSTAMP:20260422T190523Z
DTSTART:20260205T070000Z
DTEND:20260205T084000Z
SUMMARY:Статистическая обработка данных
LOCATION:3 к. 501
END:VEVENT
BEGIN:VEVENT
UID:2jg2@192.168.245.71:3006
SEQUENCE:0
DTSTAMP:20260422T190523Z
DTSTART:20260205T090000Z
DTEND:20260205T104000Z
SUMMARY:Статистическая обработка данных
LOCATION:3 к. 105
END:VEVENT
BEGIN:VEVENT
UID:fuog@192.168.245.71:3006
SEQUENCE:0
DTSTAMP:20260422T190523Z
DTSTART:20260206T090000Z
DTEND:20260206T104000Z
SUMMARY:Системы программирования
LOCATION:3 к. 107
END:VEVENT
BEGIN:VEVENT
UID:bgo2@192.168.245.71:3006
SEQUENCE:0
DTSTAMP:20260422T190523Z
DTSTART:20260206T110000Z
DTEND:20260206T124000Z
SUMMARY:Системы программирования
LOCATION:3 к. 201
END:VEVENT
BEGIN:VEVENT
UID:c8rz@192.168.245.71:3006
SEQUENCE:0
DTSTAMP:20260422T190523Z
DTSTART:20260207T090000Z
DTEND:20260207T104000Z
SUMMARY:Инфраструктура компиляторов LLVM в высокопроизводительных вычислен
 иях
LOCATION:3 к. 211
END:VEVENT
BEGIN:VEVENT
UID:skjr@192.168.245.71:3006
SEQUENCE:0
DTSTAMP:20260422T190523Z
DTSTART:20260207T110000Z
DTEND:20260207T124000Z
SUMMARY:Инфраструктура компиляторов LLVM в высокопроизводительных вычислен
 иях
LOCATION:3 к. 107
END:VEVENT
END:VCALENDAR