BEGIN:VCALENDAR
VERSION:2.0
PRODID:-//spbstu.ru//ical//RU
NAME:Расписание группы 5140904/50202
X-WR-CALNAME:Расписание группы 5140904/50202
TIMEZONE-ID:Europe/Moscow
X-WR-TIMEZONE:Europe/Moscow
BEGIN:VEVENT
UID:0epx@192.168.245.71:3006
SEQUENCE:0
DTSTAMP:20260421T051615Z
DTSTART:20260420T090000Z
DTEND:20260420T104000Z
SUMMARY:Процессы управления качеством программного обеспечения
LOCATION:3 к. 101
END:VEVENT
BEGIN:VEVENT
UID:g4e6@192.168.245.71:3006
SEQUENCE:0
DTSTAMP:20260421T051615Z
DTSTART:20260421T110000Z
DTEND:20260421T124000Z
SUMMARY:Введение в синтез программ
LOCATION:3 к. 107
END:VEVENT
BEGIN:VEVENT
UID:7cx8@192.168.245.71:3006
SEQUENCE:0
DTSTAMP:20260421T051615Z
DTSTART:20260421T130000Z
DTEND:20260421T144000Z
SUMMARY:Научный дискурс
LOCATION:3 к. 104
END:VEVENT
BEGIN:VEVENT
UID:8yyi@192.168.245.71:3006
SEQUENCE:0
DTSTAMP:20260421T051615Z
DTSTART:20260422T070000Z
DTEND:20260422T084000Z
SUMMARY:Процессы управления качеством программного обеспечения
LOCATION:3 к. 107
END:VEVENT
BEGIN:VEVENT
UID:j20m@192.168.245.71:3006
SEQUENCE:0
DTSTAMP:20260421T051615Z
DTSTART:20260422T090000Z
DTEND:20260422T104000Z
SUMMARY:Системы анализа больших данных
LOCATION:3 к. 103
END:VEVENT
BEGIN:VEVENT
UID:gvq6@192.168.245.71:3006
SEQUENCE:0
DTSTAMP:20260421T051615Z
DTSTART:20260422T110000Z
DTEND:20260422T124000Z
SUMMARY:Системы программирования
LOCATION:3 к. 107
END:VEVENT
BEGIN:VEVENT
UID:olot@192.168.245.71:3006
SEQUENCE:0
DTSTAMP:20260421T051615Z
DTSTART:20260422T130000Z
DTEND:20260422T144000Z
SUMMARY:Статистическая обработка данных
LOCATION:3 к. 206
END:VEVENT
BEGIN:VEVENT
UID:tbr4@192.168.245.71:3006
SEQUENCE:0
DTSTAMP:20260421T051615Z
DTSTART:20260423T070000Z
DTEND:20260423T084000Z
SUMMARY:Управление информацией и хранением данных
LOCATION:3 к. 101
END:VEVENT
BEGIN:VEVENT
UID:rcdv@192.168.245.71:3006
SEQUENCE:0
DTSTAMP:20260421T051615Z
DTSTART:20260423T090000Z
DTEND:20260423T104000Z
SUMMARY:Управление информацией и хранением данных
LOCATION:3 к. 216
END:VEVENT
BEGIN:VEVENT
UID:ir1p@192.168.245.71:3006
SEQUENCE:0
DTSTAMP:20260421T051615Z
DTSTART:20260424T110000Z
DTEND:20260424T124000Z
SUMMARY:Системы программирования
LOCATION:3 к. 104
END:VEVENT
END:VCALENDAR