BEGIN:VCALENDAR
VERSION:2.0
PRODID:-//spbstu.ru//ical//RU
NAME:Расписание группы 5140904/50202
X-WR-CALNAME:Расписание группы 5140904/50202
TIMEZONE-ID:Europe/Moscow
X-WR-TIMEZONE:Europe/Moscow
BEGIN:VEVENT
UID:0nof@192.168.245.71:3006
SEQUENCE:0
DTSTAMP:20260422T000255Z
DTSTART:20260518T090000Z
DTEND:20260518T104000Z
SUMMARY:Процессы управления качеством программного обеспечения
LOCATION:3 к. 101
END:VEVENT
BEGIN:VEVENT
UID:0hai@192.168.245.71:3006
SEQUENCE:0
DTSTAMP:20260422T000255Z
DTSTART:20260521T090000Z
DTEND:20260521T104000Z
SUMMARY:Управление информацией и хранением данных
LOCATION:3 к. 216
END:VEVENT
BEGIN:VEVENT
UID:p3ik@192.168.245.71:3006
SEQUENCE:0
DTSTAMP:20260422T000255Z
DTSTART:20260522T110000Z
DTEND:20260522T124000Z
SUMMARY:Системы программирования
LOCATION:3 к. 104
END:VEVENT
END:VCALENDAR