BEGIN:VCALENDAR
VERSION:2.0
PRODID:-//spbstu.ru//ical//RU
NAME:Расписание группы 5140904/50401
X-WR-CALNAME:Расписание группы 5140904/50401
TIMEZONE-ID:Europe/Moscow
X-WR-TIMEZONE:Europe/Moscow
BEGIN:VEVENT
UID:rtok@192.168.245.71:3006
SEQUENCE:0
DTSTAMP:20260425T004523Z
DTSTART:20251020T130000Z
DTEND:20251020T144000Z
SUMMARY:Внедрение и сопровождение информационных систем и сервисов
LOCATION:3 к. 101
END:VEVENT
BEGIN:VEVENT
UID:78n3@192.168.245.71:3006
SEQUENCE:0
DTSTAMP:20260425T004523Z
DTSTART:20251020T150000Z
DTEND:20251020T164000Z
SUMMARY:Построение ИТ инфраструктуры для разработки и DEVOPS
LOCATION:3 к. 101
END:VEVENT
BEGIN:VEVENT
UID:43l7@192.168.245.71:3006
SEQUENCE:0
DTSTAMP:20260425T004523Z
DTSTART:20251021T070000Z
DTEND:20251021T084000Z
SUMMARY:Иностранный язык в профессиональной коммуникации\, Английский
LOCATION:3 к. 303
END:VEVENT
BEGIN:VEVENT
UID:x2d6@192.168.245.71:3006
SEQUENCE:0
DTSTAMP:20260425T004523Z
DTSTART:20251021T130000Z
DTEND:20251021T144000Z
SUMMARY:Цифровые ресурсы в научном исследовании
LOCATION:3 к. 202
END:VEVENT
BEGIN:VEVENT
UID:jyx3@192.168.245.71:3006
SEQUENCE:0
DTSTAMP:20260425T004523Z
DTSTART:20251022T090000Z
DTEND:20251022T104000Z
SUMMARY:Информационно-технологическая инфраструктура предприятия
LOCATION:3 к. 101
END:VEVENT
BEGIN:VEVENT
UID:m9hd@192.168.245.71:3006
SEQUENCE:0
DTSTAMP:20260425T004523Z
DTSTART:20251022T130000Z
DTEND:20251022T144000Z
SUMMARY:Построение ИТ инфраструктуры для разработки и DEVOPS
LOCATION:3 к. 104
END:VEVENT
BEGIN:VEVENT
UID:lu4t@192.168.245.71:3006
SEQUENCE:0
DTSTAMP:20260425T004523Z
DTSTART:20251022T150000Z
DTEND:20251022T164000Z
SUMMARY:Информационно-технологическая инфраструктура предприятия
LOCATION:3 к. 101
END:VEVENT
BEGIN:VEVENT
UID:994o@192.168.245.71:3006
SEQUENCE:0
DTSTAMP:20260425T004523Z
DTSTART:20251022T170000Z
DTEND:20251022T184000Z
SUMMARY:Информационно-технологическая инфраструктура предприятия
LOCATION:3 к. 101
END:VEVENT
BEGIN:VEVENT
UID:yg6g@192.168.245.71:3006
SEQUENCE:0
DTSTAMP:20260425T004523Z
DTSTART:20251023T110000Z
DTEND:20251023T124000Z
SUMMARY:Технологии верификации и тестирования программного обеспечения
LOCATION:3 к. 107
END:VEVENT
END:VCALENDAR