BEGIN:VCALENDAR
VERSION:2.0
PRODID:-//spbstu.ru//ical//RU
NAME:Расписание группы 5140904/50401
X-WR-CALNAME:Расписание группы 5140904/50401
TIMEZONE-ID:Europe/Moscow
X-WR-TIMEZONE:Europe/Moscow
BEGIN:VEVENT
UID:k7hu@192.168.245.71:3006
SEQUENCE:0
DTSTAMP:20260424T062329Z
DTSTART:20251124T130000Z
DTEND:20251124T144000Z
SUMMARY:Внедрение и сопровождение информационных систем и сервисов
LOCATION:3 к. 101
END:VEVENT
BEGIN:VEVENT
UID:8rmx@192.168.245.71:3006
SEQUENCE:0
DTSTAMP:20260424T062329Z
DTSTART:20251124T150000Z
DTEND:20251124T164000Z
SUMMARY:Внедрение и сопровождение информационных систем и сервисов
LOCATION:3 к. 111
END:VEVENT
BEGIN:VEVENT
UID:gpdl@192.168.245.71:3006
SEQUENCE:0
DTSTAMP:20260424T062329Z
DTSTART:20251125T070000Z
DTEND:20251125T084000Z
SUMMARY:Иностранный язык в профессиональной коммуникации\, Английский
LOCATION:3 к. 303
END:VEVENT
BEGIN:VEVENT
UID:3n8y@192.168.245.71:3006
SEQUENCE:0
DTSTAMP:20260424T062329Z
DTSTART:20251125T110000Z
DTEND:20251125T124000Z
SUMMARY:Технологии верификации и тестирования программного обеспечения
LOCATION:3 к. 101
END:VEVENT
BEGIN:VEVENT
UID:ek7b@192.168.245.71:3006
SEQUENCE:0
DTSTAMP:20260424T062329Z
DTSTART:20251126T110000Z
DTEND:20251126T124000Z
SUMMARY:Управление инновационным проектом
LOCATION:3 к. 107
END:VEVENT
BEGIN:VEVENT
UID:t8h0@192.168.245.71:3006
SEQUENCE:0
DTSTAMP:20260424T062329Z
DTSTART:20251126T130000Z
DTEND:20251126T144000Z
SUMMARY:Построение ИТ инфраструктуры для разработки и DEVOPS
LOCATION:3 к. 104
END:VEVENT
BEGIN:VEVENT
UID:eajz@192.168.245.71:3006
SEQUENCE:0
DTSTAMP:20260424T062329Z
DTSTART:20251126T150000Z
DTEND:20251126T164000Z
SUMMARY:Информационно-технологическая инфраструктура предприятия
LOCATION:3 к. 101
END:VEVENT
BEGIN:VEVENT
UID:xzr8@192.168.245.71:3006
SEQUENCE:0
DTSTAMP:20260424T062329Z
DTSTART:20251126T170000Z
DTEND:20251126T184000Z
SUMMARY:Информационно-технологическая инфраструктура предприятия
LOCATION:3 к. 101
END:VEVENT
END:VCALENDAR