BEGIN:VCALENDAR
VERSION:2.0
PRODID:-//spbstu.ru//ical//RU
NAME:Расписание группы 5140904/50401
X-WR-CALNAME:Расписание группы 5140904/50401
TIMEZONE-ID:Europe/Moscow
X-WR-TIMEZONE:Europe/Moscow
BEGIN:VEVENT
UID:7q6c@192.168.245.71:3006
SEQUENCE:0
DTSTAMP:20260421T070925Z
DTSTART:20260413T150000Z
DTEND:20260413T164000Z
SUMMARY:Бизнес-анализ
LOCATION:50 уч.к 1202 ГПН\, лекционная
END:VEVENT
BEGIN:VEVENT
UID:4b4c@192.168.245.71:3006
SEQUENCE:0
DTSTAMP:20260421T070925Z
DTSTART:20260413T170000Z
DTEND:20260413T184000Z
SUMMARY:Бизнес-анализ
LOCATION:50 уч.к 1202 ГПН\, лекционная
END:VEVENT
BEGIN:VEVENT
UID:5js2@192.168.245.71:3006
SEQUENCE:0
DTSTAMP:20260421T070925Z
DTSTART:20260416T110000Z
DTEND:20260416T124000Z
SUMMARY:Системы программирования
LOCATION:3 к. 107
END:VEVENT
BEGIN:VEVENT
UID:pmnr@192.168.245.71:3006
SEQUENCE:0
DTSTAMP:20260421T070925Z
DTSTART:20260416T130000Z
DTEND:20260416T144000Z
SUMMARY:Системы программирования
LOCATION:3 к. 105
END:VEVENT
BEGIN:VEVENT
UID:4l6z@192.168.245.71:3006
SEQUENCE:0
DTSTAMP:20260421T070925Z
DTSTART:20260416T150000Z
DTEND:20260416T164000Z
SUMMARY:Наука о данных и аналитика больших объемов информации
LOCATION:3 к. 111
END:VEVENT
BEGIN:VEVENT
UID:7pjh@192.168.245.71:3006
SEQUENCE:0
DTSTAMP:20260421T070925Z
DTSTART:20260416T170000Z
DTEND:20260416T184000Z
SUMMARY:Бизнес-анализ
LOCATION:50 уч.к 1202 ГПН\, лекционная
END:VEVENT
BEGIN:VEVENT
UID:1s54@192.168.245.71:3006
SEQUENCE:0
DTSTAMP:20260421T070925Z
DTSTART:20260417T070000Z
DTEND:20260417T084000Z
SUMMARY:Наука о данных и аналитика больших объемов информации
LOCATION:3 к. 111
END:VEVENT
BEGIN:VEVENT
UID:a9yh@192.168.245.71:3006
SEQUENCE:0
DTSTAMP:20260421T070925Z
DTSTART:20260417T090000Z
DTEND:20260417T104000Z
SUMMARY:Наука о данных и аналитика больших объемов информации
LOCATION:3 к. 101
END:VEVENT
BEGIN:VEVENT
UID:90kk@192.168.245.71:3006
SEQUENCE:0
DTSTAMP:20260421T070925Z
DTSTART:20260417T110000Z
DTEND:20260417T124000Z
SUMMARY:Облачные сервисы\, технологии и вычислительные инфраструктуры
LOCATION:3 к. 101
END:VEVENT
BEGIN:VEVENT
UID:4x4j@192.168.245.71:3006
SEQUENCE:0
DTSTAMP:20260421T070925Z
DTSTART:20260417T130000Z
DTEND:20260417T144000Z
SUMMARY:Облачные сервисы\, технологии и вычислительные инфраструктуры
LOCATION:3 к. 101
END:VEVENT
END:VCALENDAR