BEGIN:VCALENDAR
VERSION:2.0
PRODID:-//spbstu.ru//ical//RU
NAME:Расписание группы 5140904/50401
X-WR-CALNAME:Расписание группы 5140904/50401
TIMEZONE-ID:Europe/Moscow
X-WR-TIMEZONE:Europe/Moscow
BEGIN:VEVENT
UID:ai3x@192.168.245.71:3006
SEQUENCE:0
DTSTAMP:20260421T070920Z
DTSTART:20260407T150000Z
DTEND:20260407T164000Z
SUMMARY:Бизнес-анализ
LOCATION:50 уч.к 1202 ГПН\, лекционная
END:VEVENT
BEGIN:VEVENT
UID:77at@192.168.245.71:3006
SEQUENCE:0
DTSTAMP:20260421T070920Z
DTSTART:20260407T170000Z
DTEND:20260407T184000Z
SUMMARY:Бизнес-анализ
LOCATION:50 уч.к 1202 ГПН\, лекционная
END:VEVENT
BEGIN:VEVENT
UID:0pjs@192.168.245.71:3006
SEQUENCE:0
DTSTAMP:20260421T070920Z
DTSTART:20260409T110000Z
DTEND:20260409T124000Z
SUMMARY:Системы программирования
LOCATION:3 к. 107
END:VEVENT
BEGIN:VEVENT
UID:0mji@192.168.245.71:3006
SEQUENCE:0
DTSTAMP:20260421T070920Z
DTSTART:20260409T130000Z
DTEND:20260409T144000Z
SUMMARY:Системы программирования
LOCATION:3 к. 105
END:VEVENT
BEGIN:VEVENT
UID:l3a6@192.168.245.71:3006
SEQUENCE:0
DTSTAMP:20260421T070920Z
DTSTART:20260409T150000Z
DTEND:20260409T164000Z
SUMMARY:Наука о данных и аналитика больших объемов информации
LOCATION:3 к. 111
END:VEVENT
BEGIN:VEVENT
UID:g2v5@192.168.245.71:3006
SEQUENCE:0
DTSTAMP:20260421T070920Z
DTSTART:20260409T170000Z
DTEND:20260409T184000Z
SUMMARY:Бизнес-анализ
LOCATION:50 уч.к 1202 ГПН\, лекционная
END:VEVENT
BEGIN:VEVENT
UID:w84z@192.168.245.71:3006
SEQUENCE:0
DTSTAMP:20260421T070920Z
DTSTART:20260410T070000Z
DTEND:20260410T084000Z
SUMMARY:Наука о данных и аналитика больших объемов информации
LOCATION:3 к. 111
END:VEVENT
BEGIN:VEVENT
UID:bqan@192.168.245.71:3006
SEQUENCE:0
DTSTAMP:20260421T070920Z
DTSTART:20260410T090000Z
DTEND:20260410T104000Z
SUMMARY:Наука о данных и аналитика больших объемов информации
LOCATION:3 к. 101
END:VEVENT
BEGIN:VEVENT
UID:95dd@192.168.245.71:3006
SEQUENCE:0
DTSTAMP:20260421T070920Z
DTSTART:20260410T110000Z
DTEND:20260410T124000Z
SUMMARY:Сетевая инфраструктура
LOCATION:3 к. 101
END:VEVENT
BEGIN:VEVENT
UID:wh5e@192.168.245.71:3006
SEQUENCE:0
DTSTAMP:20260421T070920Z
DTSTART:20260410T130000Z
DTEND:20260410T144000Z
SUMMARY:Сетевая инфраструктура
LOCATION:3 к. 101
END:VEVENT
END:VCALENDAR