BEGIN:VCALENDAR
VERSION:2.0
PRODID:-//spbstu.ru//ical//RU
NAME:Расписание группы 5140904/50401
X-WR-CALNAME:Расписание группы 5140904/50401
TIMEZONE-ID:Europe/Moscow
X-WR-TIMEZONE:Europe/Moscow
BEGIN:VEVENT
UID:q6r0@192.168.245.71:3006
SEQUENCE:0
DTSTAMP:20260421T133001Z
DTSTART:20260514T110000Z
DTEND:20260514T124000Z
SUMMARY:Системы программирования
LOCATION:3 к. 107
END:VEVENT
BEGIN:VEVENT
UID:90tu@192.168.245.71:3006
SEQUENCE:0
DTSTAMP:20260421T133001Z
DTSTART:20260514T130000Z
DTEND:20260514T144000Z
SUMMARY:Системы программирования
LOCATION:3 к. 105
END:VEVENT
BEGIN:VEVENT
UID:vug1@192.168.245.71:3006
SEQUENCE:0
DTSTAMP:20260421T133001Z
DTSTART:20260514T150000Z
DTEND:20260514T164000Z
SUMMARY:Наука о данных и аналитика больших объемов информации
LOCATION:3 к. 111
END:VEVENT
BEGIN:VEVENT
UID:bpb0@192.168.245.71:3006
SEQUENCE:0
DTSTAMP:20260421T133001Z
DTSTART:20260515T070000Z
DTEND:20260515T084000Z
SUMMARY:Наука о данных и аналитика больших объемов информации
LOCATION:3 к. 111
END:VEVENT
BEGIN:VEVENT
UID:b5ro@192.168.245.71:3006
SEQUENCE:0
DTSTAMP:20260421T133001Z
DTSTART:20260515T090000Z
DTEND:20260515T104000Z
SUMMARY:Наука о данных и аналитика больших объемов информации
LOCATION:3 к. 101
END:VEVENT
BEGIN:VEVENT
UID:oc4s@192.168.245.71:3006
SEQUENCE:0
DTSTAMP:20260421T133001Z
DTSTART:20260515T110000Z
DTEND:20260515T124000Z
SUMMARY:Облачные сервисы\, технологии и вычислительные инфраструктуры
LOCATION:3 к. 101
END:VEVENT
BEGIN:VEVENT
UID:3jij@192.168.245.71:3006
SEQUENCE:0
DTSTAMP:20260421T133001Z
DTSTART:20260515T130000Z
DTEND:20260515T144000Z
SUMMARY:Облачные сервисы\, технологии и вычислительные инфраструктуры
LOCATION:3 к. 101
END:VEVENT
END:VCALENDAR