BEGIN:VCALENDAR
VERSION:2.0
PRODID:-//spbstu.ru//ical//RU
NAME:Расписание группы 5140904/50501
X-WR-CALNAME:Расписание группы 5140904/50501
TIMEZONE-ID:Europe/Moscow
X-WR-TIMEZONE:Europe/Moscow
BEGIN:VEVENT
UID:pdro@192.168.245.71:3006
SEQUENCE:0
DTSTAMP:20260424T220850Z
DTSTART:20251117T150000Z
DTEND:20251117T164000Z
SUMMARY:Внедрение и сопровождение информационных систем и сервисов
LOCATION:3 к. 203
END:VEVENT
BEGIN:VEVENT
UID:r45o@192.168.245.71:3006
SEQUENCE:0
DTSTAMP:20260424T220850Z
DTSTART:20251117T170000Z
DTEND:20251117T184000Z
SUMMARY:Внедрение и сопровождение информационных систем и сервисов
LOCATION:3 к. 111
END:VEVENT
BEGIN:VEVENT
UID:hzhb@192.168.245.71:3006
SEQUENCE:0
DTSTAMP:20260424T220850Z
DTSTART:20251118T070000Z
DTEND:20251118T084000Z
SUMMARY:Верификация распределенных алгоритмов и систем
LOCATION:3 к. 216
END:VEVENT
BEGIN:VEVENT
UID:6jkr@192.168.245.71:3006
SEQUENCE:0
DTSTAMP:20260424T220850Z
DTSTART:20251118T090000Z
DTEND:20251118T104000Z
SUMMARY:Верификация распределенных алгоритмов и систем
LOCATION:11 к. 148
END:VEVENT
BEGIN:VEVENT
UID:hlsu@192.168.245.71:3006
SEQUENCE:0
DTSTAMP:20260424T220850Z
DTSTART:20251118T150000Z
DTEND:20251118T164000Z
SUMMARY:Цифровые ресурсы в научном исследовании
LOCATION:3 к. 103
END:VEVENT
BEGIN:VEVENT
UID:2qxc@192.168.245.71:3006
SEQUENCE:0
DTSTAMP:20260424T220850Z
DTSTART:20251119T090000Z
DTEND:20251119T104000Z
SUMMARY:Информационно-технологическая инфраструктура предприятия
LOCATION:3 к. 101
END:VEVENT
BEGIN:VEVENT
UID:t9zo@192.168.245.71:3006
SEQUENCE:0
DTSTAMP:20260424T220850Z
DTSTART:20251119T110000Z
DTEND:20251119T124000Z
SUMMARY:Иностранный язык в профессиональной коммуникации\, Английский
LOCATION:3 к. 208
END:VEVENT
BEGIN:VEVENT
UID:rwd5@192.168.245.71:3006
SEQUENCE:0
DTSTAMP:20260424T220850Z
DTSTART:20251119T130000Z
DTEND:20251119T144000Z
SUMMARY:Иностранный язык в профессиональной коммуникации\, Английский
LOCATION:3 к. 208
END:VEVENT
BEGIN:VEVENT
UID:4rtk@192.168.245.71:3006
SEQUENCE:0
DTSTAMP:20260424T220850Z
DTSTART:20251119T150000Z
DTEND:20251119T164000Z
SUMMARY:Информационно-технологическая инфраструктура предприятия
LOCATION:3 к. 101
END:VEVENT
BEGIN:VEVENT
UID:myhq@192.168.245.71:3006
SEQUENCE:0
DTSTAMP:20260424T220850Z
DTSTART:20251119T170000Z
DTEND:20251119T184000Z
SUMMARY:Информационно-технологическая инфраструктура предприятия
LOCATION:3 к. 101
END:VEVENT
BEGIN:VEVENT
UID:x781@192.168.245.71:3006
SEQUENCE:0
DTSTAMP:20260424T220850Z
DTSTART:20251120T130000Z
DTEND:20251120T144000Z
SUMMARY:Методология по управлению процессами в IT
LOCATION:3 к. 102
END:VEVENT
BEGIN:VEVENT
UID:0gd7@192.168.245.71:3006
SEQUENCE:0
DTSTAMP:20260424T220850Z
DTSTART:20251120T150000Z
DTEND:20251120T164000Z
SUMMARY:Методология по управлению процессами в IT
LOCATION:3 к. 102
END:VEVENT
END:VCALENDAR