BEGIN:VCALENDAR
VERSION:2.0
PRODID:-//spbstu.ru//ical//RU
NAME:Расписание группы 5140904/50501
X-WR-CALNAME:Расписание группы 5140904/50501
TIMEZONE-ID:Europe/Moscow
X-WR-TIMEZONE:Europe/Moscow
BEGIN:VEVENT
UID:7n7o@192.168.245.71:3006
SEQUENCE:0
DTSTAMP:20260424T055307Z
DTSTART:20251215T150000Z
DTEND:20251215T164000Z
SUMMARY:Внедрение и сопровождение информационных систем и сервисов
LOCATION:3 к. 203
END:VEVENT
BEGIN:VEVENT
UID:808j@192.168.245.71:3006
SEQUENCE:0
DTSTAMP:20260424T055307Z
DTSTART:20251216T070000Z
DTEND:20251216T084000Z
SUMMARY:Верификация распределенных алгоритмов и систем
LOCATION:3 к. 216
END:VEVENT
BEGIN:VEVENT
UID:x09b@192.168.245.71:3006
SEQUENCE:0
DTSTAMP:20260424T055307Z
DTSTART:20251216T090000Z
DTEND:20251216T104000Z
SUMMARY:Верификация распределенных алгоритмов и систем
LOCATION:11 к. 148
END:VEVENT
BEGIN:VEVENT
UID:r12o@192.168.245.71:3006
SEQUENCE:0
DTSTAMP:20260424T055307Z
DTSTART:20251216T150000Z
DTEND:20251216T164000Z
SUMMARY:Цифровые ресурсы в научном исследовании
LOCATION:3 к. 103
END:VEVENT
BEGIN:VEVENT
UID:28iq@192.168.245.71:3006
SEQUENCE:0
DTSTAMP:20260424T055307Z
DTSTART:20251217T090000Z
DTEND:20251217T114000Z
SUMMARY:Верификация распределенных алгоритмов и систем
LOCATION:3 к. 110
END:VEVENT
BEGIN:VEVENT
UID:aufw@192.168.245.71:3006
SEQUENCE:0
DTSTAMP:20260424T055307Z
DTSTART:20251217T170000Z
DTEND:20251217T174000Z
SUMMARY:Внедрение и сопровождение информационных систем и сервисов
LOCATION:3 к. 111
END:VEVENT
BEGIN:VEVENT
UID:u4ae@192.168.245.71:3006
SEQUENCE:0
DTSTAMP:20260424T055307Z
DTSTART:20251220T100000Z
DTEND:20251220T150000Z
SUMMARY:Иностранный язык в профессиональной коммуникации\, Английский
LOCATION:3 к. 209
END:VEVENT
END:VCALENDAR