BEGIN:VCALENDAR
VERSION:2.0
PRODID:-//spbstu.ru//ical//RU
NAME:Расписание группы 5140904/50501
X-WR-CALNAME:Расписание группы 5140904/50501
TIMEZONE-ID:Europe/Moscow
X-WR-TIMEZONE:Europe/Moscow
BEGIN:VEVENT
UID:i3b0@192.168.245.71:3006
SEQUENCE:0
DTSTAMP:20260421T151318Z
DTSTART:20260326T090000Z
DTEND:20260326T104000Z
SUMMARY:Стратегия сервиса
LOCATION:3 к. 203
END:VEVENT
BEGIN:VEVENT
UID:64e4@192.168.245.71:3006
SEQUENCE:0
DTSTAMP:20260421T151318Z
DTSTART:20260326T110000Z
DTEND:20260326T124000Z
SUMMARY:Системы программирования
LOCATION:3 к. 107
END:VEVENT
BEGIN:VEVENT
UID:cpny@192.168.245.71:3006
SEQUENCE:0
DTSTAMP:20260421T151318Z
DTSTART:20260326T130000Z
DTEND:20260326T144000Z
SUMMARY:Сервис-дизайн\, операционализация процессов и внедрение сервисов
LOCATION:3 к. 107
END:VEVENT
BEGIN:VEVENT
UID:v8pe@192.168.245.71:3006
SEQUENCE:0
DTSTAMP:20260421T151318Z
DTSTART:20260326T150000Z
DTEND:20260326T164000Z
SUMMARY:Сервис-дизайн\, операционализация процессов и внедрение сервисов
LOCATION:3 к. 107
END:VEVENT
BEGIN:VEVENT
UID:xcf8@192.168.245.71:3006
SEQUENCE:0
DTSTAMP:20260421T151318Z
DTSTART:20260327T110000Z
DTEND:20260327T124000Z
SUMMARY:Системы программирования
LOCATION:3 к. 107
END:VEVENT
BEGIN:VEVENT
UID:eo2w@192.168.245.71:3006
SEQUENCE:0
DTSTAMP:20260421T151318Z
DTSTART:20260327T130000Z
DTEND:20260327T144000Z
SUMMARY:Управление жизненным циклом ИС
LOCATION:3 к. 107
END:VEVENT
END:VCALENDAR