BEGIN:VCALENDAR
VERSION:2.0
PRODID:-//spbstu.ru//ical//RU
NAME:Расписание группы 5140904/50501
X-WR-CALNAME:Расписание группы 5140904/50501
TIMEZONE-ID:Europe/Moscow
X-WR-TIMEZONE:Europe/Moscow
BEGIN:VEVENT
UID:twb2@192.168.245.71:3006
SEQUENCE:0
DTSTAMP:20260421T132919Z
DTSTART:20260330T130000Z
DTEND:20260330T144000Z
SUMMARY:Архитектура и менеджмент предприятия
LOCATION:3 к. 101
END:VEVENT
BEGIN:VEVENT
UID:h5qo@192.168.245.71:3006
SEQUENCE:0
DTSTAMP:20260421T132919Z
DTSTART:20260330T150000Z
DTEND:20260330T164000Z
SUMMARY:Архитектура и менеджмент предприятия
LOCATION:3 к. 105
END:VEVENT
BEGIN:VEVENT
UID:uoii@192.168.245.71:3006
SEQUENCE:0
DTSTAMP:20260421T132919Z
DTSTART:20260401T150000Z
DTEND:20260401T164000Z
SUMMARY:Иностранный язык в профессиональной коммуникации\, Английский
LOCATION:11 к. 322
END:VEVENT
BEGIN:VEVENT
UID:03ih@192.168.245.71:3006
SEQUENCE:0
DTSTAMP:20260421T132919Z
DTSTART:20260402T070000Z
DTEND:20260402T084000Z
SUMMARY:Стратегия сервиса
LOCATION:3 к. 107
END:VEVENT
BEGIN:VEVENT
UID:l7xg@192.168.245.71:3006
SEQUENCE:0
DTSTAMP:20260421T132919Z
DTSTART:20260402T090000Z
DTEND:20260402T104000Z
SUMMARY:Стратегия сервиса
LOCATION:3 к. 203
END:VEVENT
BEGIN:VEVENT
UID:ys5q@192.168.245.71:3006
SEQUENCE:0
DTSTAMP:20260421T132919Z
DTSTART:20260402T110000Z
DTEND:20260402T124000Z
SUMMARY:Системы программирования
LOCATION:3 к. 107
END:VEVENT
BEGIN:VEVENT
UID:0fdc@192.168.245.71:3006
SEQUENCE:0
DTSTAMP:20260421T132919Z
DTSTART:20260402T130000Z
DTEND:20260402T144000Z
SUMMARY:Сервис-дизайн\, операционализация процессов и внедрение сервисов
LOCATION:3 к. 107
END:VEVENT
BEGIN:VEVENT
UID:wyjg@192.168.245.71:3006
SEQUENCE:0
DTSTAMP:20260421T132919Z
DTSTART:20260403T110000Z
DTEND:20260403T124000Z
SUMMARY:Системы программирования
LOCATION:3 к. 107
END:VEVENT
BEGIN:VEVENT
UID:fn1o@192.168.245.71:3006
SEQUENCE:0
DTSTAMP:20260421T132919Z
DTSTART:20260403T130000Z
DTEND:20260403T144000Z
SUMMARY:Управление жизненным циклом ИС
LOCATION:3 к. 107
END:VEVENT
BEGIN:VEVENT
UID:xep5@192.168.245.71:3006
SEQUENCE:0
DTSTAMP:20260421T132919Z
DTSTART:20260403T150000Z
DTEND:20260403T164000Z
SUMMARY:Управление жизненным циклом ИС
LOCATION:3 к. 107
END:VEVENT
END:VCALENDAR