BEGIN:VCALENDAR
VERSION:2.0
PRODID:-//spbstu.ru//ical//RU
NAME:Расписание группы 5141001/50301
X-WR-CALNAME:Расписание группы 5141001/50301
TIMEZONE-ID:Europe/Moscow
X-WR-TIMEZONE:Europe/Moscow
BEGIN:VEVENT
UID:xdf7@192.168.245.71:3006
SEQUENCE:0
DTSTAMP:20260422T011721Z
DTSTART:20260413T110000Z
DTEND:20260413T124000Z
SUMMARY:Безопасность Интернета вещей
LOCATION:11 к. 332
END:VEVENT
BEGIN:VEVENT
UID:fszj@192.168.245.71:3006
SEQUENCE:0
DTSTAMP:20260422T011721Z
DTSTART:20260413T130000Z
DTEND:20260413T144000Z
SUMMARY:Безопасность Интернета вещей
LOCATION:11 к. 319
END:VEVENT
BEGIN:VEVENT
UID:ktjo@192.168.245.71:3006
SEQUENCE:0
DTSTAMP:20260422T011721Z
DTSTART:20260413T150000Z
DTEND:20260413T164000Z
SUMMARY:Безопасность самоорганизующихся сетей
LOCATION:11 к. 319
END:VEVENT
BEGIN:VEVENT
UID:ds8p@192.168.245.71:3006
SEQUENCE:0
DTSTAMP:20260422T011721Z
DTSTART:20260414T133000Z
DTEND:20260414T140000Z
SUMMARY:Научно-исследовательская работа
LOCATION:ГЗ 173
END:VEVENT
BEGIN:VEVENT
UID:orwp@192.168.245.71:3006
SEQUENCE:0
DTSTAMP:20260422T011721Z
DTSTART:20260415T150000Z
DTEND:20260415T164000Z
SUMMARY:Методы и средства противодействия целенаправленным атакам
LOCATION:3 к. 305
END:VEVENT
BEGIN:VEVENT
UID:cad6@192.168.245.71:3006
SEQUENCE:0
DTSTAMP:20260422T011721Z
DTSTART:20260415T170000Z
DTEND:20260415T184000Z
SUMMARY:Методы и средства противодействия целенаправленным атакам
LOCATION:3 к. 305
END:VEVENT
BEGIN:VEVENT
UID:7amv@192.168.245.71:3006
SEQUENCE:0
DTSTAMP:20260422T011721Z
DTSTART:20260416T050000Z
DTEND:20260416T064000Z
SUMMARY:Безопасность сетевых технологий
LOCATION:3 к. 310
END:VEVENT
BEGIN:VEVENT
UID:vj7l@192.168.245.71:3006
SEQUENCE:0
DTSTAMP:20260422T011721Z
DTSTART:20260416T070000Z
DTEND:20260416T084000Z
SUMMARY:Безопасность баз данных
LOCATION:3 к. 305
END:VEVENT
BEGIN:VEVENT
UID:xtwo@192.168.245.71:3006
SEQUENCE:0
DTSTAMP:20260422T011721Z
DTSTART:20260416T090000Z
DTEND:20260416T104000Z
SUMMARY:Распределенные автоматизированные информационные системы
LOCATION:3 к. 310
END:VEVENT
BEGIN:VEVENT
UID:62t1@192.168.245.71:3006
SEQUENCE:0
DTSTAMP:20260422T011721Z
DTSTART:20260417T110000Z
DTEND:20260417T124000Z
SUMMARY:Управление инновационным проектом
LOCATION:ГЗ 105
END:VEVENT
BEGIN:VEVENT
UID:6370@192.168.245.71:3006
SEQUENCE:0
DTSTAMP:20260422T011721Z
DTSTART:20260417T130000Z
DTEND:20260417T144000Z
SUMMARY:Безопасность сетевых технологий
LOCATION:11 к. 328
END:VEVENT
BEGIN:VEVENT
UID:j3qn@192.168.245.71:3006
SEQUENCE:0
DTSTAMP:20260422T011721Z
DTSTART:20260417T150000Z
DTEND:20260417T164000Z
SUMMARY:Безопасность современных информационных технологий
LOCATION:11 к. 328
END:VEVENT
END:VCALENDAR