BEGIN:VCALENDAR
VERSION:2.0
PRODID:-//spbstu.ru//ical//RU
NAME:Расписание группы 5141001/50301
X-WR-CALNAME:Расписание группы 5141001/50301
TIMEZONE-ID:Europe/Moscow
X-WR-TIMEZONE:Europe/Moscow
BEGIN:VEVENT
UID:rbbp@192.168.245.71:3006
SEQUENCE:0
DTSTAMP:20260422T060404Z
DTSTART:20260406T090000Z
DTEND:20260406T104000Z
SUMMARY:Безопасность Интернета вещей
LOCATION:11 к. 332
END:VEVENT
BEGIN:VEVENT
UID:9h7y@192.168.245.71:3006
SEQUENCE:0
DTSTAMP:20260422T060404Z
DTSTART:20260406T110000Z
DTEND:20260406T124000Z
SUMMARY:Безопасность Интернета вещей
LOCATION:11 к. 332
END:VEVENT
BEGIN:VEVENT
UID:1dn3@192.168.245.71:3006
SEQUENCE:0
DTSTAMP:20260422T060404Z
DTSTART:20260406T130000Z
DTEND:20260406T144000Z
SUMMARY:Безопасность Интернета вещей
LOCATION:11 к. 319
END:VEVENT
BEGIN:VEVENT
UID:x5zf@192.168.245.71:3006
SEQUENCE:0
DTSTAMP:20260422T060404Z
DTSTART:20260406T150000Z
DTEND:20260406T164000Z
SUMMARY:Безопасность самоорганизующихся сетей
LOCATION:11 к. 319
END:VEVENT
BEGIN:VEVENT
UID:k3pg@192.168.245.71:3006
SEQUENCE:0
DTSTAMP:20260422T060404Z
DTSTART:20260407T110000Z
DTEND:20260407T124000Z
SUMMARY:Безопасность Интернета вещей
LOCATION:3 к. 204
END:VEVENT
BEGIN:VEVENT
UID:3eks@192.168.245.71:3006
SEQUENCE:0
DTSTAMP:20260422T060404Z
DTSTART:20260407T130000Z
DTEND:20260407T144000Z
SUMMARY:Безопасность баз данных
LOCATION:3 к. 503
END:VEVENT
BEGIN:VEVENT
UID:b0id@192.168.245.71:3006
SEQUENCE:0
DTSTAMP:20260422T060404Z
DTSTART:20260408T150000Z
DTEND:20260408T164000Z
SUMMARY:Методы и средства противодействия целенаправленным атакам
LOCATION:3 к. 305
END:VEVENT
BEGIN:VEVENT
UID:g086@192.168.245.71:3006
SEQUENCE:0
DTSTAMP:20260422T060404Z
DTSTART:20260409T050000Z
DTEND:20260409T064000Z
SUMMARY:Безопасность сетевых технологий
LOCATION:3 к. 310
END:VEVENT
BEGIN:VEVENT
UID:gdbe@192.168.245.71:3006
SEQUENCE:0
DTSTAMP:20260422T060404Z
DTSTART:20260409T070000Z
DTEND:20260409T084000Z
SUMMARY:Безопасность баз данных
LOCATION:3 к. 305
END:VEVENT
BEGIN:VEVENT
UID:2ox0@192.168.245.71:3006
SEQUENCE:0
DTSTAMP:20260422T060404Z
DTSTART:20260409T090000Z
DTEND:20260409T104000Z
SUMMARY:Распределенные автоматизированные информационные системы
LOCATION:3 к. 305
END:VEVENT
BEGIN:VEVENT
UID:d3b9@192.168.245.71:3006
SEQUENCE:0
DTSTAMP:20260422T060404Z
DTSTART:20260410T130000Z
DTEND:20260410T144000Z
SUMMARY:Безопасность современных информационных технологий
LOCATION:11 к. 328
END:VEVENT
BEGIN:VEVENT
UID:89q3@192.168.245.71:3006
SEQUENCE:0
DTSTAMP:20260422T060404Z
DTSTART:20260410T150000Z
DTEND:20260410T164000Z
SUMMARY:Безопасность современных информационных технологий
LOCATION:11 к. 328
END:VEVENT
END:VCALENDAR