BEGIN:VCALENDAR
VERSION:2.0
PRODID:-//spbstu.ru//ical//RU
NAME:Расписание группы 5141001/50401
X-WR-CALNAME:Расписание группы 5141001/50401
TIMEZONE-ID:Europe/Moscow
X-WR-TIMEZONE:Europe/Moscow
BEGIN:VEVENT
UID:tzmw@192.168.245.71:3006
SEQUENCE:0
DTSTAMP:20260425T020825Z
DTSTART:20251006T150000Z
DTEND:20251006T164000Z
SUMMARY:Цифровые ресурсы в научном исследовании
LOCATION:ГЗ 165
END:VEVENT
BEGIN:VEVENT
UID:77y6@192.168.245.71:3006
SEQUENCE:0
DTSTAMP:20260425T020825Z
DTSTART:20251007T130000Z
DTEND:20251007T144000Z
SUMMARY:Безопасность баз данных
LOCATION:3 к. 503
END:VEVENT
BEGIN:VEVENT
UID:ddvf@192.168.245.71:3006
SEQUENCE:0
DTSTAMP:20260425T020825Z
DTSTART:20251007T150000Z
DTEND:20251007T164000Z
SUMMARY:Организационно-правовые аспекты информационной безопасности
LOCATION:3 к. 205
END:VEVENT
BEGIN:VEVENT
UID:5n5f@192.168.245.71:3006
SEQUENCE:0
DTSTAMP:20260425T020825Z
DTSTART:20251007T170000Z
DTEND:20251007T184000Z
SUMMARY:Операционные системы
LOCATION:3 к. 205
END:VEVENT
BEGIN:VEVENT
UID:6k8m@192.168.245.71:3006
SEQUENCE:0
DTSTAMP:20260425T020825Z
DTSTART:20251008T150000Z
DTEND:20251008T164000Z
SUMMARY:Комплексное обеспечение информационной безопасности
LOCATION:3 к. 502
END:VEVENT
BEGIN:VEVENT
UID:vfzn@192.168.245.71:3006
SEQUENCE:0
DTSTAMP:20260425T020825Z
DTSTART:20251008T170000Z
DTEND:20251008T184000Z
SUMMARY:Комплексное обеспечение информационной безопасности
LOCATION:3 к. 502
END:VEVENT
BEGIN:VEVENT
UID:hhl6@192.168.245.71:3006
SEQUENCE:0
DTSTAMP:20260425T020825Z
DTSTART:20251009T130000Z
DTEND:20251009T144000Z
SUMMARY:Операционные системы
LOCATION:3 к. 205
END:VEVENT
BEGIN:VEVENT
UID:vo3l@192.168.245.71:3006
SEQUENCE:0
DTSTAMP:20260425T020825Z
DTSTART:20251009T150000Z
DTEND:20251009T164000Z
SUMMARY:Безопасность баз данных
LOCATION:3 к. 503
END:VEVENT
BEGIN:VEVENT
UID:vz3l@192.168.245.71:3006
SEQUENCE:0
DTSTAMP:20260425T020825Z
DTSTART:20251010T130000Z
DTEND:20251010T144000Z
SUMMARY:Безопасность сетевых технологий
LOCATION:11 к. 332
END:VEVENT
BEGIN:VEVENT
UID:0v7n@192.168.245.71:3006
SEQUENCE:0
DTSTAMP:20260425T020825Z
DTSTART:20251010T150000Z
DTEND:20251010T164000Z
SUMMARY:Иностранный язык в профессиональной коммуникации\, Английский
LOCATION:ГЗ 175
END:VEVENT
END:VCALENDAR