BEGIN:VCALENDAR
VERSION:2.0
PRODID:-//spbstu.ru//ical//RU
NAME:Расписание группы 5141001/50401
X-WR-CALNAME:Расписание группы 5141001/50401
TIMEZONE-ID:Europe/Moscow
X-WR-TIMEZONE:Europe/Moscow
BEGIN:VEVENT
UID:93le@192.168.245.71:3006
SEQUENCE:0
DTSTAMP:20260422T014322Z
DTSTART:20260216T150000Z
DTEND:20260216T164000Z
SUMMARY:Криптографическая защита информации
LOCATION:ГЗ 165
END:VEVENT
BEGIN:VEVENT
UID:udcu@192.168.245.71:3006
SEQUENCE:0
DTSTAMP:20260422T014322Z
DTSTART:20260216T170000Z
DTEND:20260216T184000Z
SUMMARY:Криптографическая защита информации
LOCATION:ГЗ 165
END:VEVENT
BEGIN:VEVENT
UID:olzc@192.168.245.71:3006
SEQUENCE:0
DTSTAMP:20260422T014322Z
DTSTART:20260217T130000Z
DTEND:20260217T133000Z
SUMMARY:Безопасность сетевых технологий
LOCATION:3 к. 305
END:VEVENT
BEGIN:VEVENT
UID:3ni3@192.168.245.71:3006
SEQUENCE:0
DTSTAMP:20260422T014322Z
DTSTART:20260217T133500Z
DTEND:20260217T140500Z
SUMMARY:Организационно-правовые аспекты информационной безопасности
LOCATION:3 к. 305
END:VEVENT
BEGIN:VEVENT
UID:3968@192.168.245.71:3006
SEQUENCE:0
DTSTAMP:20260422T014322Z
DTSTART:20260217T150000Z
DTEND:20260217T164000Z
SUMMARY:Основы вирусологии
LOCATION:ГЗ 165
END:VEVENT
BEGIN:VEVENT
UID:259i@192.168.245.71:3006
SEQUENCE:0
DTSTAMP:20260422T014322Z
DTSTART:20260217T170000Z
DTEND:20260217T184000Z
SUMMARY:Основы вирусологии
LOCATION:ГЗ 165
END:VEVENT
BEGIN:VEVENT
UID:e1ga@192.168.245.71:3006
SEQUENCE:0
DTSTAMP:20260422T014322Z
DTSTART:20260218T130000Z
DTEND:20260218T140000Z
SUMMARY:Иностранный язык в профессиональной коммуникации\, Английский
LOCATION:3 к. 307
END:VEVENT
BEGIN:VEVENT
UID:h47c@192.168.245.71:3006
SEQUENCE:0
DTSTAMP:20260422T014322Z
DTSTART:20260218T150000Z
DTEND:20260218T164000Z
SUMMARY:Комплексное обеспечение информационной безопасности
LOCATION:3 к. 307
END:VEVENT
BEGIN:VEVENT
UID:9cy9@192.168.245.71:3006
SEQUENCE:0
DTSTAMP:20260422T014322Z
DTSTART:20260218T170000Z
DTEND:20260218T184000Z
SUMMARY:Комплексное обеспечение информационной безопасности
LOCATION:3 к. 307
END:VEVENT
BEGIN:VEVENT
UID:qeg3@192.168.245.71:3006
SEQUENCE:0
DTSTAMP:20260422T014322Z
DTSTART:20260219T090000Z
DTEND:20260219T104000Z
SUMMARY:Распределенные автоматизированные информационные системы
LOCATION:3 к. 310
END:VEVENT
BEGIN:VEVENT
UID:wk7w@192.168.245.71:3006
SEQUENCE:0
DTSTAMP:20260422T014322Z
DTSTART:20260219T110000Z
DTEND:20260219T120000Z
SUMMARY:Безопасность баз данных
LOCATION:3 к. 310
END:VEVENT
BEGIN:VEVENT
UID:rm8l@192.168.245.71:3006
SEQUENCE:0
DTSTAMP:20260422T014322Z
DTSTART:20260219T130000Z
DTEND:20260219T144000Z
SUMMARY:Безопасность сетевых технологий
LOCATION:3 к. 211
END:VEVENT
BEGIN:VEVENT
UID:eenq@192.168.245.71:3006
SEQUENCE:0
DTSTAMP:20260422T014322Z
DTSTART:20260219T150000Z
DTEND:20260219T164000Z
SUMMARY:Безопасность баз данных
LOCATION:3 к. 211
END:VEVENT
BEGIN:VEVENT
UID:xdht@192.168.245.71:3006
SEQUENCE:0
DTSTAMP:20260422T014322Z
DTSTART:20260220T090000Z
DTEND:20260220T094000Z
SUMMARY:Операционные системы
LOCATION:11 к. 336
END:VEVENT
BEGIN:VEVENT
UID:m1nm@192.168.245.71:3006
SEQUENCE:0
DTSTAMP:20260422T014322Z
DTSTART:20260220T100000Z
DTEND:20260220T104000Z
SUMMARY:Безопасность баз данных
LOCATION:11 к. 326
END:VEVENT
BEGIN:VEVENT
UID:anu0@192.168.245.71:3006
SEQUENCE:0
DTSTAMP:20260422T014322Z
DTSTART:20260220T130000Z
DTEND:20260220T144000Z
SUMMARY:Безопасность сетевых технологий
LOCATION:11 к. 328
END:VEVENT
END:VCALENDAR