BEGIN:VCALENDAR
VERSION:2.0
PRODID:-//spbstu.ru//ical//RU
NAME:Расписание группы 5141001/50401
X-WR-CALNAME:Расписание группы 5141001/50401
TIMEZONE-ID:Europe/Moscow
X-WR-TIMEZONE:Europe/Moscow
BEGIN:VEVENT
UID:ax5z@192.168.245.71:3006
SEQUENCE:0
DTSTAMP:20260422T123908Z
DTSTART:20260202T150000Z
DTEND:20260202T164000Z
SUMMARY:Криптографическая защита информации
LOCATION:ГЗ 165
END:VEVENT
BEGIN:VEVENT
UID:cq7q@192.168.245.71:3006
SEQUENCE:0
DTSTAMP:20260422T123908Z
DTSTART:20260202T170000Z
DTEND:20260202T184000Z
SUMMARY:Криптографическая защита информации
LOCATION:ГЗ 165
END:VEVENT
BEGIN:VEVENT
UID:flhu@192.168.245.71:3006
SEQUENCE:0
DTSTAMP:20260422T123908Z
DTSTART:20260203T150000Z
DTEND:20260203T164000Z
SUMMARY:Основы вирусологии
LOCATION:ГЗ 165
END:VEVENT
BEGIN:VEVENT
UID:qsim@192.168.245.71:3006
SEQUENCE:0
DTSTAMP:20260422T123908Z
DTSTART:20260203T170000Z
DTEND:20260203T184000Z
SUMMARY:Основы вирусологии
LOCATION:ГЗ 165
END:VEVENT
BEGIN:VEVENT
UID:72qr@192.168.245.71:3006
SEQUENCE:0
DTSTAMP:20260422T123908Z
DTSTART:20260204T150000Z
DTEND:20260204T164000Z
SUMMARY:Комплексное обеспечение информационной безопасности
LOCATION:3 к. 307
END:VEVENT
BEGIN:VEVENT
UID:qjvg@192.168.245.71:3006
SEQUENCE:0
DTSTAMP:20260422T123908Z
DTSTART:20260204T170000Z
DTEND:20260204T184000Z
SUMMARY:Комплексное обеспечение информационной безопасности
LOCATION:3 к. 307
END:VEVENT
BEGIN:VEVENT
UID:a8rl@192.168.245.71:3006
SEQUENCE:0
DTSTAMP:20260422T123908Z
DTSTART:20260205T090000Z
DTEND:20260205T104000Z
SUMMARY:Распределенные автоматизированные информационные системы
LOCATION:3 к. 310
END:VEVENT
BEGIN:VEVENT
UID:fmi0@192.168.245.71:3006
SEQUENCE:0
DTSTAMP:20260422T123908Z
DTSTART:20260205T130000Z
DTEND:20260205T144000Z
SUMMARY:Безопасность сетевых технологий
LOCATION:3 к. 211
END:VEVENT
BEGIN:VEVENT
UID:y0pt@192.168.245.71:3006
SEQUENCE:0
DTSTAMP:20260422T123908Z
DTSTART:20260205T150000Z
DTEND:20260205T164000Z
SUMMARY:Безопасность баз данных
LOCATION:3 к. 211
END:VEVENT
BEGIN:VEVENT
UID:ylhp@192.168.245.71:3006
SEQUENCE:0
DTSTAMP:20260422T123908Z
DTSTART:20260206T110000Z
DTEND:20260206T124000Z
SUMMARY:Управление инновационным проектом
LOCATION:11 к. 316
END:VEVENT
BEGIN:VEVENT
UID:v9m6@192.168.245.71:3006
SEQUENCE:0
DTSTAMP:20260422T123908Z
DTSTART:20260206T130000Z
DTEND:20260206T144000Z
SUMMARY:Безопасность сетевых технологий
LOCATION:11 к. 328
END:VEVENT
END:VCALENDAR