BEGIN:VCALENDAR
VERSION:2.0
PRODID:-//spbstu.ru//ical//RU
NAME:Расписание группы 5141001/50401
X-WR-CALNAME:Расписание группы 5141001/50401
TIMEZONE-ID:Europe/Moscow
X-WR-TIMEZONE:Europe/Moscow
BEGIN:VEVENT
UID:slok@192.168.245.71:3006
SEQUENCE:0
DTSTAMP:20260421T135144Z
DTSTART:20260316T133000Z
DTEND:20260316T140000Z
SUMMARY:Операционные системы
LOCATION:ГЗ 173
END:VEVENT
BEGIN:VEVENT
UID:0m99@192.168.245.71:3006
SEQUENCE:0
DTSTAMP:20260421T135144Z
DTSTART:20260316T150000Z
DTEND:20260316T164000Z
SUMMARY:Криптографическая защита информации
LOCATION:ГЗ 165
END:VEVENT
BEGIN:VEVENT
UID:wcah@192.168.245.71:3006
SEQUENCE:0
DTSTAMP:20260421T135144Z
DTSTART:20260316T170000Z
DTEND:20260316T184000Z
SUMMARY:Криптографическая защита информации
LOCATION:ГЗ 165
END:VEVENT
BEGIN:VEVENT
UID:rbsm@192.168.245.71:3006
SEQUENCE:0
DTSTAMP:20260421T135144Z
DTSTART:20260317T140000Z
DTEND:20260317T143000Z
SUMMARY:Организационно-правовые аспекты информационной безопасности
LOCATION:ГЗ 173
END:VEVENT
BEGIN:VEVENT
UID:6gmu@192.168.245.71:3006
SEQUENCE:0
DTSTAMP:20260421T135144Z
DTSTART:20260317T150000Z
DTEND:20260317T164000Z
SUMMARY:Основы вирусологии
LOCATION:ГЗ 165
END:VEVENT
BEGIN:VEVENT
UID:0lkh@192.168.245.71:3006
SEQUENCE:0
DTSTAMP:20260421T135144Z
DTSTART:20260317T170000Z
DTEND:20260317T184000Z
SUMMARY:Основы вирусологии
LOCATION:ГЗ 165
END:VEVENT
BEGIN:VEVENT
UID:yul9@192.168.245.71:3006
SEQUENCE:0
DTSTAMP:20260421T135144Z
DTSTART:20260318T150000Z
DTEND:20260318T164000Z
SUMMARY:Комплексное обеспечение информационной безопасности
LOCATION:3 к. 307
END:VEVENT
BEGIN:VEVENT
UID:5b54@192.168.245.71:3006
SEQUENCE:0
DTSTAMP:20260421T135144Z
DTSTART:20260318T170000Z
DTEND:20260318T184000Z
SUMMARY:Комплексное обеспечение информационной безопасности
LOCATION:3 к. 307
END:VEVENT
BEGIN:VEVENT
UID:3ors@192.168.245.71:3006
SEQUENCE:0
DTSTAMP:20260421T135144Z
DTSTART:20260319T090000Z
DTEND:20260319T104000Z
SUMMARY:Распределенные автоматизированные информационные системы
LOCATION:3 к. 310
END:VEVENT
BEGIN:VEVENT
UID:2bjx@192.168.245.71:3006
SEQUENCE:0
DTSTAMP:20260421T135144Z
DTSTART:20260319T120000Z
DTEND:20260319T124000Z
SUMMARY:Безопасность баз данных
LOCATION:ГЗ 173
END:VEVENT
BEGIN:VEVENT
UID:24wo@192.168.245.71:3006
SEQUENCE:0
DTSTAMP:20260421T135144Z
DTSTART:20260319T130000Z
DTEND:20260319T144000Z
SUMMARY:Безопасность сетевых технологий
LOCATION:3 к. 211
END:VEVENT
BEGIN:VEVENT
UID:d3od@192.168.245.71:3006
SEQUENCE:0
DTSTAMP:20260421T135144Z
DTSTART:20260319T150000Z
DTEND:20260319T164000Z
SUMMARY:Безопасность баз данных
LOCATION:3 к. 211
END:VEVENT
BEGIN:VEVENT
UID:8sjo@192.168.245.71:3006
SEQUENCE:0
DTSTAMP:20260421T135144Z
DTSTART:20260320T100000Z
DTEND:20260320T103000Z
SUMMARY:Иностранный язык в профессиональной коммуникации\, Английский
LOCATION:ГЗ 173
END:VEVENT
BEGIN:VEVENT
UID:8gel@192.168.245.71:3006
SEQUENCE:0
DTSTAMP:20260421T135144Z
DTSTART:20260320T130000Z
DTEND:20260320T144000Z
SUMMARY:Безопасность сетевых технологий
LOCATION:11 к. 328
END:VEVENT
BEGIN:VEVENT
UID:04qx@192.168.245.71:3006
SEQUENCE:0
DTSTAMP:20260421T135144Z
DTSTART:20260320T150000Z
DTEND:20260320T164000Z
SUMMARY:Криптографическая защита информации
LOCATION:ГЗ 165
END:VEVENT
END:VCALENDAR