BEGIN:VCALENDAR
VERSION:2.0
PRODID:-//spbstu.ru//ical//RU
NAME:Расписание группы 5141001/50401
X-WR-CALNAME:Расписание группы 5141001/50401
TIMEZONE-ID:Europe/Moscow
X-WR-TIMEZONE:Europe/Moscow
BEGIN:VEVENT
UID:t84r@192.168.245.71:3006
SEQUENCE:0
DTSTAMP:20260421T185616Z
DTSTART:20260413T150000Z
DTEND:20260413T164000Z
SUMMARY:Криптографическая защита информации
LOCATION:ГЗ 165
END:VEVENT
BEGIN:VEVENT
UID:qvco@192.168.245.71:3006
SEQUENCE:0
DTSTAMP:20260421T185616Z
DTSTART:20260413T170000Z
DTEND:20260413T184000Z
SUMMARY:Криптографическая защита информации
LOCATION:ГЗ 165
END:VEVENT
BEGIN:VEVENT
UID:69eg@192.168.245.71:3006
SEQUENCE:0
DTSTAMP:20260421T185616Z
DTSTART:20260414T133000Z
DTEND:20260414T140000Z
SUMMARY:Научно-исследовательская работа
LOCATION:ГЗ 173
END:VEVENT
BEGIN:VEVENT
UID:8q53@192.168.245.71:3006
SEQUENCE:0
DTSTAMP:20260421T185616Z
DTSTART:20260414T150000Z
DTEND:20260414T164000Z
SUMMARY:Основы вирусологии
LOCATION:ГЗ 165
END:VEVENT
BEGIN:VEVENT
UID:5ycr@192.168.245.71:3006
SEQUENCE:0
DTSTAMP:20260421T185616Z
DTSTART:20260414T170000Z
DTEND:20260414T184000Z
SUMMARY:Основы вирусологии
LOCATION:ГЗ 165
END:VEVENT
BEGIN:VEVENT
UID:8m6d@192.168.245.71:3006
SEQUENCE:0
DTSTAMP:20260421T185616Z
DTSTART:20260415T150000Z
DTEND:20260415T164000Z
SUMMARY:Комплексное обеспечение информационной безопасности
LOCATION:3 к. 307
END:VEVENT
BEGIN:VEVENT
UID:4arz@192.168.245.71:3006
SEQUENCE:0
DTSTAMP:20260421T185616Z
DTSTART:20260415T170000Z
DTEND:20260415T184000Z
SUMMARY:Комплексное обеспечение информационной безопасности
LOCATION:3 к. 307
END:VEVENT
BEGIN:VEVENT
UID:54ad@192.168.245.71:3006
SEQUENCE:0
DTSTAMP:20260421T185616Z
DTSTART:20260416T090000Z
DTEND:20260416T104000Z
SUMMARY:Распределенные автоматизированные информационные системы
LOCATION:3 к. 310
END:VEVENT
BEGIN:VEVENT
UID:e51t@192.168.245.71:3006
SEQUENCE:0
DTSTAMP:20260421T185616Z
DTSTART:20260416T130000Z
DTEND:20260416T144000Z
SUMMARY:Безопасность сетевых технологий
LOCATION:3 к. 211
END:VEVENT
BEGIN:VEVENT
UID:8ssb@192.168.245.71:3006
SEQUENCE:0
DTSTAMP:20260421T185616Z
DTSTART:20260416T150000Z
DTEND:20260416T164000Z
SUMMARY:Безопасность баз данных
LOCATION:3 к. 211
END:VEVENT
BEGIN:VEVENT
UID:l73x@192.168.245.71:3006
SEQUENCE:0
DTSTAMP:20260421T185616Z
DTSTART:20260417T130000Z
DTEND:20260417T144000Z
SUMMARY:Безопасность сетевых технологий
LOCATION:11 к. 328
END:VEVENT
END:VCALENDAR