BEGIN:VCALENDAR
VERSION:2.0
PRODID:-//spbstu.ru//ical//RU
NAME:Расписание группы 5141001/50601
X-WR-CALNAME:Расписание группы 5141001/50601
TIMEZONE-ID:Europe/Moscow
X-WR-TIMEZONE:Europe/Moscow
BEGIN:VEVENT
UID:o00q@192.168.245.71:3006
SEQUENCE:0
DTSTAMP:20260421T110511Z
DTSTART:20260427T110000Z
DTEND:20260427T124000Z
SUMMARY:Безопасность Интернета вещей
LOCATION:11 к. 332
END:VEVENT
BEGIN:VEVENT
UID:a76d@192.168.245.71:3006
SEQUENCE:0
DTSTAMP:20260421T110511Z
DTSTART:20260427T130000Z
DTEND:20260427T144000Z
SUMMARY:Безопасность Интернета вещей
LOCATION:11 к. 319
END:VEVENT
BEGIN:VEVENT
UID:3wfh@192.168.245.71:3006
SEQUENCE:0
DTSTAMP:20260421T110511Z
DTSTART:20260427T150000Z
DTEND:20260427T164000Z
SUMMARY:Безопасность самоорганизующихся сетей
LOCATION:11 к. 319
END:VEVENT
BEGIN:VEVENT
UID:09ar@192.168.245.71:3006
SEQUENCE:0
DTSTAMP:20260421T110511Z
DTSTART:20260429T150000Z
DTEND:20260429T164000Z
SUMMARY:Методы и средства противодействия целенаправленным атакам
LOCATION:3 к. 305
END:VEVENT
BEGIN:VEVENT
UID:2scb@192.168.245.71:3006
SEQUENCE:0
DTSTAMP:20260421T110511Z
DTSTART:20260429T170000Z
DTEND:20260429T184000Z
SUMMARY:Методы и средства противодействия целенаправленным атакам
LOCATION:3 к. 305
END:VEVENT
BEGIN:VEVENT
UID:r5hq@192.168.245.71:3006
SEQUENCE:0
DTSTAMP:20260421T110511Z
DTSTART:20260430T050000Z
DTEND:20260430T064000Z
SUMMARY:Безопасность сетевых технологий
LOCATION:3 к. 310
END:VEVENT
BEGIN:VEVENT
UID:07i2@192.168.245.71:3006
SEQUENCE:0
DTSTAMP:20260421T110511Z
DTSTART:20260430T070000Z
DTEND:20260430T084000Z
SUMMARY:Безопасность баз данных
LOCATION:3 к. 305
END:VEVENT
BEGIN:VEVENT
UID:vudg@192.168.245.71:3006
SEQUENCE:0
DTSTAMP:20260421T110511Z
DTSTART:20260430T090000Z
DTEND:20260430T104000Z
SUMMARY:Распределенные автоматизированные информационные системы
LOCATION:3 к. 310
END:VEVENT
END:VCALENDAR