BEGIN:VCALENDAR
VERSION:2.0
PRODID:-//spbstu.ru//ical//RU
NAME:Расписание группы 5142704/50801
X-WR-CALNAME:Расписание группы 5142704/50801
TIMEZONE-ID:Europe/Moscow
X-WR-TIMEZONE:Europe/Moscow
BEGIN:VEVENT
UID:tyux@192.168.245.71:3006
SEQUENCE:0
DTSTAMP:20260424T133014Z
DTSTART:20251118T070000Z
DTEND:20251118T084000Z
SUMMARY:Математические модели технических объектов управления
LOCATION:16 к. 315
END:VEVENT
BEGIN:VEVENT
UID:h2f8@192.168.245.71:3006
SEQUENCE:0
DTSTAMP:20260424T133014Z
DTSTART:20251118T090000Z
DTEND:20251118T104000Z
SUMMARY:Машинное обучение и анализ данных
LOCATION:16 к. 315
END:VEVENT
BEGIN:VEVENT
UID:aeti@192.168.245.71:3006
SEQUENCE:0
DTSTAMP:20260424T133014Z
DTSTART:20251118T110000Z
DTEND:20251118T124000Z
SUMMARY:Машинное обучение и анализ данных
LOCATION:16 к. 315
END:VEVENT
BEGIN:VEVENT
UID:oi5j@192.168.245.71:3006
SEQUENCE:0
DTSTAMP:20260424T133014Z
DTSTART:20251120T070000Z
DTEND:20251120T084000Z
SUMMARY:Иностранный язык в профессиональной коммуникации\, Английский
LOCATION:16 к. 311
END:VEVENT
BEGIN:VEVENT
UID:us5d@192.168.245.71:3006
SEQUENCE:0
DTSTAMP:20260424T133014Z
DTSTART:20251120T090000Z
DTEND:20251120T104000Z
SUMMARY:Проектная работа
LOCATION:16 к. 316
END:VEVENT
BEGIN:VEVENT
UID:d2on@192.168.245.71:3006
SEQUENCE:0
DTSTAMP:20260424T133014Z
DTSTART:20251120T110000Z
DTEND:20251120T124000Z
SUMMARY:Современные проблемы теории автоматического управления
LOCATION:16 к. 316
END:VEVENT
BEGIN:VEVENT
UID:iwax@192.168.245.71:3006
SEQUENCE:0
DTSTAMP:20260424T133014Z
DTSTART:20251120T130000Z
DTEND:20251120T144000Z
SUMMARY:Управление инновационным проектом
LOCATION:16 к. 316
END:VEVENT
END:VCALENDAR