BEGIN:VCALENDAR
VERSION:2.0
PRODID:-//spbstu.ru//ical//RU
NAME:Расписание группы 5142704/50801
X-WR-CALNAME:Расписание группы 5142704/50801
TIMEZONE-ID:Europe/Moscow
X-WR-TIMEZONE:Europe/Moscow
BEGIN:VEVENT
UID:qwi0@192.168.245.71:3006
SEQUENCE:0
DTSTAMP:20260424T081159Z
DTSTART:20251125T090000Z
DTEND:20251125T104000Z
SUMMARY:Прикладные методы оптимизации
LOCATION:16 к. 316
END:VEVENT
BEGIN:VEVENT
UID:kzx3@192.168.245.71:3006
SEQUENCE:0
DTSTAMP:20260424T081159Z
DTSTART:20251125T110000Z
DTEND:20251125T124000Z
SUMMARY:Прикладные методы оптимизации
LOCATION:16 к. 316
END:VEVENT
BEGIN:VEVENT
UID:905y@192.168.245.71:3006
SEQUENCE:0
DTSTAMP:20260424T081159Z
DTSTART:20251125T130000Z
DTEND:20251125T144000Z
SUMMARY:Цифровые ресурсы в научном исследовании
LOCATION:16 к. 414
END:VEVENT
BEGIN:VEVENT
UID:n5m2@192.168.245.71:3006
SEQUENCE:0
DTSTAMP:20260424T081159Z
DTSTART:20251125T150000Z
DTEND:20251125T164000Z
SUMMARY:Математические модели технических объектов управления
LOCATION:16 к. 414
END:VEVENT
BEGIN:VEVENT
UID:lz41@192.168.245.71:3006
SEQUENCE:0
DTSTAMP:20260424T081159Z
DTSTART:20251127T070000Z
DTEND:20251127T084000Z
SUMMARY:Проектная работа
LOCATION:16 к. 316
END:VEVENT
BEGIN:VEVENT
UID:8ydf@192.168.245.71:3006
SEQUENCE:0
DTSTAMP:20260424T081159Z
DTSTART:20251127T090000Z
DTEND:20251127T104000Z
SUMMARY:Иностранный язык в профессиональной коммуникации\, Английский
LOCATION:16 к. 309
END:VEVENT
BEGIN:VEVENT
UID:a01u@192.168.245.71:3006
SEQUENCE:0
DTSTAMP:20260424T081159Z
DTSTART:20251127T110000Z
DTEND:20251127T124000Z
SUMMARY:Современные проблемы теории автоматического управления
LOCATION:16 к. 316
END:VEVENT
BEGIN:VEVENT
UID:m5cn@192.168.245.71:3006
SEQUENCE:0
DTSTAMP:20260424T081159Z
DTSTART:20251127T130000Z
DTEND:20251127T144000Z
SUMMARY:Проектная работа
LOCATION:16 к. 316
END:VEVENT
END:VCALENDAR