BEGIN:VCALENDAR
VERSION:2.0
PRODID:-//spbstu.ru//ical//RU
NAME:Расписание группы 5142704/50801
X-WR-CALNAME:Расписание группы 5142704/50801
TIMEZONE-ID:Europe/Moscow
X-WR-TIMEZONE:Europe/Moscow
BEGIN:VEVENT
UID:sa9y@192.168.245.71:3006
SEQUENCE:0
DTSTAMP:20260423T205748Z
DTSTART:20251216T070000Z
DTEND:20251216T084000Z
SUMMARY:Математические модели технических объектов управления
LOCATION:16 к. 315
END:VEVENT
BEGIN:VEVENT
UID:dgjb@192.168.245.71:3006
SEQUENCE:0
DTSTAMP:20260423T205748Z
DTSTART:20251216T090000Z
DTEND:20251216T104000Z
SUMMARY:Машинное обучение и анализ данных
LOCATION:16 к. 315
END:VEVENT
BEGIN:VEVENT
UID:ylle@192.168.245.71:3006
SEQUENCE:0
DTSTAMP:20260423T205748Z
DTSTART:20251216T110000Z
DTEND:20251216T124000Z
SUMMARY:Машинное обучение и анализ данных
LOCATION:16 к. 315
END:VEVENT
BEGIN:VEVENT
UID:drdy@192.168.245.71:3006
SEQUENCE:0
DTSTAMP:20260423T205748Z
DTSTART:20251218T110000Z
DTEND:20251218T142000Z
SUMMARY:Цифровые ресурсы в научном исследовании
LOCATION:16 к. 316
END:VEVENT
BEGIN:VEVENT
UID:szx4@192.168.245.71:3006
SEQUENCE:0
DTSTAMP:20260423T205748Z
DTSTART:20251219T110000Z
DTEND:20251219T142000Z
SUMMARY:Математические модели технических объектов управления
LOCATION:16 к. 315
END:VEVENT
END:VCALENDAR