BEGIN:VCALENDAR
VERSION:2.0
PRODID:-//spbstu.ru//ical//RU
NAME:Расписание группы 5142704/50801
X-WR-CALNAME:Расписание группы 5142704/50801
TIMEZONE-ID:Europe/Moscow
X-WR-TIMEZONE:Europe/Moscow
BEGIN:VEVENT
UID:wei6@192.168.245.71:3006
SEQUENCE:0
DTSTAMP:20260426T033247Z
DTSTART:20250909T070000Z
DTEND:20250909T084000Z
SUMMARY:Математические модели технических объектов управления
LOCATION:16 к. 315
END:VEVENT
BEGIN:VEVENT
UID:81h6@192.168.245.71:3006
SEQUENCE:0
DTSTAMP:20260426T033247Z
DTSTART:20250909T090000Z
DTEND:20250909T104000Z
SUMMARY:Машинное обучение и анализ данных
LOCATION:16 к. 315
END:VEVENT
BEGIN:VEVENT
UID:oa6j@192.168.245.71:3006
SEQUENCE:0
DTSTAMP:20260426T033247Z
DTSTART:20250909T110000Z
DTEND:20250909T124000Z
SUMMARY:Машинное обучение и анализ данных
LOCATION:16 к. 315
END:VEVENT
BEGIN:VEVENT
UID:gy01@192.168.245.71:3006
SEQUENCE:0
DTSTAMP:20260426T033247Z
DTSTART:20250911T070000Z
DTEND:20250911T084000Z
SUMMARY:Иностранный язык в профессиональной коммуникации\, Английский
LOCATION:16 к. 311
END:VEVENT
BEGIN:VEVENT
UID:se23@192.168.245.71:3006
SEQUENCE:0
DTSTAMP:20260426T033247Z
DTSTART:20250911T090000Z
DTEND:20250911T104000Z
SUMMARY:Проектная работа
LOCATION:16 к. 316
END:VEVENT
BEGIN:VEVENT
UID:l1e0@192.168.245.71:3006
SEQUENCE:0
DTSTAMP:20260426T033247Z
DTSTART:20250911T110000Z
DTEND:20250911T124000Z
SUMMARY:Современные проблемы теории автоматического управления
LOCATION:16 к. 316
END:VEVENT
BEGIN:VEVENT
UID:w7f9@192.168.245.71:3006
SEQUENCE:0
DTSTAMP:20260426T033247Z
DTSTART:20250911T130000Z
DTEND:20250911T144000Z
SUMMARY:Управление инновационным проектом
LOCATION:16 к. 316
END:VEVENT
END:VCALENDAR