BEGIN:VCALENDAR
VERSION:2.0
PRODID:-//spbstu.ru//ical//RU
NAME:Расписание группы 5142704/50801
X-WR-CALNAME:Расписание группы 5142704/50801
TIMEZONE-ID:Europe/Moscow
X-WR-TIMEZONE:Europe/Moscow
BEGIN:VEVENT
UID:danm@192.168.245.71:3006
SEQUENCE:0
DTSTAMP:20260421T194457Z
DTSTART:20260407T070000Z
DTEND:20260407T084000Z
SUMMARY:Методы развития бизнеса в эпоху цифровизации
LOCATION:16 к. 315
END:VEVENT
BEGIN:VEVENT
UID:r9eo@192.168.245.71:3006
SEQUENCE:0
DTSTAMP:20260421T194457Z
DTSTART:20260407T090000Z
DTEND:20260407T104000Z
SUMMARY:Методы развития бизнеса в эпоху цифровизации
LOCATION:16 к. 315
END:VEVENT
BEGIN:VEVENT
UID:alf6@192.168.245.71:3006
SEQUENCE:0
DTSTAMP:20260421T194457Z
DTSTART:20260407T110000Z
DTEND:20260407T124000Z
SUMMARY:Инженерия больших данных
LOCATION:16 к. 315
END:VEVENT
BEGIN:VEVENT
UID:vxa3@192.168.245.71:3006
SEQUENCE:0
DTSTAMP:20260421T194457Z
DTSTART:20260409T090000Z
DTEND:20260409T104000Z
SUMMARY:Проектная работа
LOCATION:16 к. 316
END:VEVENT
BEGIN:VEVENT
UID:7iy0@192.168.245.71:3006
SEQUENCE:0
DTSTAMP:20260421T194457Z
DTSTART:20260409T110000Z
DTEND:20260409T124000Z
SUMMARY:Проектная работа
LOCATION:16 к. 316
END:VEVENT
BEGIN:VEVENT
UID:ev2d@192.168.245.71:3006
SEQUENCE:0
DTSTAMP:20260421T194457Z
DTSTART:20260409T130000Z
DTEND:20260409T144000Z
SUMMARY:Программное обеспечение облачных платформ
LOCATION:16 к. 315
END:VEVENT
BEGIN:VEVENT
UID:712j@192.168.245.71:3006
SEQUENCE:0
DTSTAMP:20260421T194457Z
DTSTART:20260409T150000Z
DTEND:20260409T164000Z
SUMMARY:Программное обеспечение облачных платформ
LOCATION:16 к. 315
END:VEVENT
BEGIN:VEVENT
UID:8292@192.168.245.71:3006
SEQUENCE:0
DTSTAMP:20260421T194457Z
DTSTART:20260411T070000Z
DTEND:20260411T084000Z
SUMMARY:Проектирование и построение микросервисных систем
LOCATION:16 к. 315
END:VEVENT
BEGIN:VEVENT
UID:cod7@192.168.245.71:3006
SEQUENCE:0
DTSTAMP:20260421T194457Z
DTSTART:20260411T090000Z
DTEND:20260411T104000Z
SUMMARY:Надежность систем управления
LOCATION:16 к. 415
END:VEVENT
BEGIN:VEVENT
UID:haq5@192.168.245.71:3006
SEQUENCE:0
DTSTAMP:20260421T194457Z
DTSTART:20260411T110000Z
DTEND:20260411T124000Z
SUMMARY:Надежность систем управления
LOCATION:16 к. 415
END:VEVENT
END:VCALENDAR