BEGIN:VCALENDAR
VERSION:2.0
PRODID:-//spbstu.ru//ical//RU
NAME:Расписание группы 5151001/50001
X-WR-CALNAME:Расписание группы 5151001/50001
TIMEZONE-ID:Europe/Moscow
X-WR-TIMEZONE:Europe/Moscow
BEGIN:VEVENT
UID:5gau@192.168.245.71:3006
SEQUENCE:0
DTSTAMP:20260423T140219Z
DTSTART:20260202T070000Z
DTEND:20260202T084000Z
SUMMARY:Физика
LOCATION:ГЗ 186 Г
END:VEVENT
BEGIN:VEVENT
UID:qbx5@192.168.245.71:3006
SEQUENCE:0
DTSTAMP:20260423T140219Z
DTSTART:20260202T070000Z
DTEND:20260202T084000Z
SUMMARY:Физика
LOCATION:ГЗ 186 Г
END:VEVENT
BEGIN:VEVENT
UID:6ngx@192.168.245.71:3006
SEQUENCE:0
DTSTAMP:20260423T140219Z
DTSTART:20260202T090000Z
DTEND:20260202T104000Z
SUMMARY:Технологии программирования
LOCATION:3 к. 302
END:VEVENT
BEGIN:VEVENT
UID:hcmw@192.168.245.71:3006
SEQUENCE:0
DTSTAMP:20260423T140219Z
DTSTART:20260202T110000Z
DTEND:20260202T124000Z
SUMMARY:Физика
LOCATION:3 к. 207
END:VEVENT
BEGIN:VEVENT
UID:zcbb@192.168.245.71:3006
SEQUENCE:0
DTSTAMP:20260423T140219Z
DTSTART:20260202T130000Z
DTEND:20260202T144000Z
SUMMARY:История России
LOCATION:3 к. 501
END:VEVENT
BEGIN:VEVENT
UID:3q0k@192.168.245.71:3006
SEQUENCE:0
DTSTAMP:20260423T140219Z
DTSTART:20260204T050000Z
DTEND:20260204T054000Z
SUMMARY:Физическая культура
LOCATION:ГЗ Белый зал
END:VEVENT
BEGIN:VEVENT
UID:l12q@192.168.245.71:3006
SEQUENCE:0
DTSTAMP:20260423T140219Z
DTSTART:20260204T070000Z
DTEND:20260204T084000Z
SUMMARY:Физика
LOCATION:ГЗ 235
END:VEVENT
BEGIN:VEVENT
UID:8q4q@192.168.245.71:3006
SEQUENCE:0
DTSTAMP:20260423T140219Z
DTSTART:20260204T090000Z
DTEND:20260204T104000Z
SUMMARY:Структуры данных
LOCATION:ГЗ 235
END:VEVENT
BEGIN:VEVENT
UID:018l@192.168.245.71:3006
SEQUENCE:0
DTSTAMP:20260423T140219Z
DTSTART:20260205T062000Z
DTEND:20260205T084000Z
SUMMARY:Высшая математика
LOCATION:3 к. 201
END:VEVENT
BEGIN:VEVENT
UID:crn3@192.168.245.71:3006
SEQUENCE:0
DTSTAMP:20260423T140219Z
DTSTART:20260205T090000Z
DTEND:20260205T104000Z
SUMMARY:Основы информационной безопасности
LOCATION:ГЗ 237
END:VEVENT
BEGIN:VEVENT
UID:pb6n@192.168.245.71:3006
SEQUENCE:0
DTSTAMP:20260423T140219Z
DTSTART:20260205T110000Z
DTEND:20260205T124000Z
SUMMARY:Основы информационной безопасности
LOCATION:ГЗ 171
END:VEVENT
BEGIN:VEVENT
UID:6pzo@192.168.245.71:3006
SEQUENCE:0
DTSTAMP:20260423T140219Z
DTSTART:20260206T070000Z
DTEND:20260206T084000Z
SUMMARY:Физика
LOCATION:ГЗ 235
END:VEVENT
BEGIN:VEVENT
UID:vukh@192.168.245.71:3006
SEQUENCE:0
DTSTAMP:20260423T140219Z
DTSTART:20260206T090000Z
DTEND:20260206T104000Z
SUMMARY:Структуры данных
LOCATION:3 к. 302
END:VEVENT
BEGIN:VEVENT
UID:zac4@192.168.245.71:3006
SEQUENCE:0
DTSTAMP:20260423T140219Z
DTSTART:20260206T110000Z
DTEND:20260206T124000Z
SUMMARY:Высшая математика
LOCATION:3 к. 206
END:VEVENT
BEGIN:VEVENT
UID:bzyx@192.168.245.71:3006
SEQUENCE:0
DTSTAMP:20260423T140219Z
DTSTART:20260207T090000Z
DTEND:20260207T104000Z
SUMMARY:История России
LOCATION:ГЗ 237
END:VEVENT
BEGIN:VEVENT
UID:mf1t@192.168.245.71:3006
SEQUENCE:0
DTSTAMP:20260423T140219Z
DTSTART:20260207T110000Z
DTEND:20260207T124000Z
SUMMARY:Высшая математика
LOCATION:ГЗ 208
END:VEVENT
BEGIN:VEVENT
UID:w738@192.168.245.71:3006
SEQUENCE:0
DTSTAMP:20260423T140219Z
DTSTART:20260207T130000Z
DTEND:20260207T144000Z
SUMMARY:Иностранный язык: Базовый курс
LOCATION:ГЗ 209
END:VEVENT
END:VCALENDAR