BEGIN:VCALENDAR
VERSION:2.0
PRODID:-//spbstu.ru//ical//RU
NAME:Расписание группы 5151001/50001
X-WR-CALNAME:Расписание группы 5151001/50001
TIMEZONE-ID:Europe/Moscow
X-WR-TIMEZONE:Europe/Moscow
BEGIN:VEVENT
UID:lb9m@192.168.245.71:3006
SEQUENCE:0
DTSTAMP:20260421T234247Z
DTSTART:20260413T070000Z
DTEND:20260413T084000Z
SUMMARY:Физика
LOCATION:ГЗ 186 Г
END:VEVENT
BEGIN:VEVENT
UID:4xsx@192.168.245.71:3006
SEQUENCE:0
DTSTAMP:20260421T234247Z
DTSTART:20260413T070000Z
DTEND:20260413T084000Z
SUMMARY:Физика
LOCATION:ГЗ 186 Г
END:VEVENT
BEGIN:VEVENT
UID:2j5n@192.168.245.71:3006
SEQUENCE:0
DTSTAMP:20260421T234247Z
DTSTART:20260413T090000Z
DTEND:20260413T104000Z
SUMMARY:Технологии программирования
LOCATION:3 к. 302
END:VEVENT
BEGIN:VEVENT
UID:4y25@192.168.245.71:3006
SEQUENCE:0
DTSTAMP:20260421T234247Z
DTSTART:20260413T110000Z
DTEND:20260413T124000Z
SUMMARY:Физика
LOCATION:3 к. 211
END:VEVENT
BEGIN:VEVENT
UID:js9b@192.168.245.71:3006
SEQUENCE:0
DTSTAMP:20260421T234247Z
DTSTART:20260413T130000Z
DTEND:20260413T144000Z
SUMMARY:История России
LOCATION:3 к. 501
END:VEVENT
BEGIN:VEVENT
UID:fqcw@192.168.245.71:3006
SEQUENCE:0
DTSTAMP:20260421T234247Z
DTSTART:20260415T050000Z
DTEND:20260415T064000Z
SUMMARY:Элективная физическая культура и спорт
LOCATION:СК Секции
END:VEVENT
BEGIN:VEVENT
UID:e0v1@192.168.245.71:3006
SEQUENCE:0
DTSTAMP:20260421T234247Z
DTSTART:20260415T070000Z
DTEND:20260415T084000Z
SUMMARY:Физика
LOCATION:ГЗ 235
END:VEVENT
BEGIN:VEVENT
UID:7rx3@192.168.245.71:3006
SEQUENCE:0
DTSTAMP:20260421T234247Z
DTSTART:20260415T090000Z
DTEND:20260415T104000Z
SUMMARY:Структуры данных
LOCATION:ГЗ 235
END:VEVENT
BEGIN:VEVENT
UID:kxj5@192.168.245.71:3006
SEQUENCE:0
DTSTAMP:20260421T234247Z
DTSTART:20260415T144000Z
DTEND:20260415T152000Z
SUMMARY:Физика
LOCATION:ГЗ 232
END:VEVENT
BEGIN:VEVENT
UID:d44x@192.168.245.71:3006
SEQUENCE:0
DTSTAMP:20260421T234247Z
DTSTART:20260416T062000Z
DTEND:20260416T084000Z
SUMMARY:Высшая математика
LOCATION:3 к. 201
END:VEVENT
BEGIN:VEVENT
UID:swe3@192.168.245.71:3006
SEQUENCE:0
DTSTAMP:20260421T234247Z
DTSTART:20260416T090000Z
DTEND:20260416T104000Z
SUMMARY:Основы информационной безопасности
LOCATION:ГЗ 237
END:VEVENT
BEGIN:VEVENT
UID:0vp1@192.168.245.71:3006
SEQUENCE:0
DTSTAMP:20260421T234247Z
DTSTART:20260416T110000Z
DTEND:20260416T124000Z
SUMMARY:Основы информационной безопасности
LOCATION:ГЗ 171
END:VEVENT
BEGIN:VEVENT
UID:wdxv@192.168.245.71:3006
SEQUENCE:0
DTSTAMP:20260421T234247Z
DTSTART:20260417T070000Z
DTEND:20260417T084000Z
SUMMARY:Физика
LOCATION:ГЗ 235
END:VEVENT
BEGIN:VEVENT
UID:6kar@192.168.245.71:3006
SEQUENCE:0
DTSTAMP:20260421T234247Z
DTSTART:20260417T090000Z
DTEND:20260417T104000Z
SUMMARY:Структуры данных
LOCATION:3 к. 302
END:VEVENT
BEGIN:VEVENT
UID:x0i4@192.168.245.71:3006
SEQUENCE:0
DTSTAMP:20260421T234247Z
DTSTART:20260417T110000Z
DTEND:20260417T124000Z
SUMMARY:Высшая математика
LOCATION:3 к. 206
END:VEVENT
BEGIN:VEVENT
UID:d47y@192.168.245.71:3006
SEQUENCE:0
DTSTAMP:20260421T234247Z
DTSTART:20260418T070000Z
DTEND:20260418T084000Z
SUMMARY:Элективная физическая культура и спорт
LOCATION:СК Секции
END:VEVENT
BEGIN:VEVENT
UID:agg6@192.168.245.71:3006
SEQUENCE:0
DTSTAMP:20260421T234247Z
DTSTART:20260418T090000Z
DTEND:20260418T104000Z
SUMMARY:История России
LOCATION:ГЗ 235
END:VEVENT
BEGIN:VEVENT
UID:sj0l@192.168.245.71:3006
SEQUENCE:0
DTSTAMP:20260421T234247Z
DTSTART:20260418T110000Z
DTEND:20260418T124000Z
SUMMARY:Высшая математика
LOCATION:ГЗ 208
END:VEVENT
BEGIN:VEVENT
UID:iojo@192.168.245.71:3006
SEQUENCE:0
DTSTAMP:20260421T234247Z
DTSTART:20260418T130000Z
DTEND:20260418T144000Z
SUMMARY:Иностранный язык: Базовый курс
LOCATION:ГЗ 209
END:VEVENT
END:VCALENDAR