BEGIN:VCALENDAR
VERSION:2.0
PRODID:-//spbstu.ru//ical//RU
NAME:Расписание группы 5151003/50002
X-WR-CALNAME:Расписание группы 5151003/50002
TIMEZONE-ID:Europe/Moscow
X-WR-TIMEZONE:Europe/Moscow
BEGIN:VEVENT
UID:91j2@192.168.245.71:3006
SEQUENCE:0
DTSTAMP:20260424T235128Z
DTSTART:20251006T130000Z
DTEND:20251006T144000Z
SUMMARY:Творческие семестры
LOCATION:ГЗ Белый зал
END:VEVENT
BEGIN:VEVENT
UID:y5nv@192.168.245.71:3006
SEQUENCE:0
DTSTAMP:20260424T235128Z
DTSTART:20251007T090000Z
DTEND:20251007T104000Z
SUMMARY:Технологии программирования
LOCATION:ГЗ 105
END:VEVENT
BEGIN:VEVENT
UID:m6c2@192.168.245.71:3006
SEQUENCE:0
DTSTAMP:20260424T235128Z
DTSTART:20251007T110000Z
DTEND:20251007T124000Z
SUMMARY:Высшая математика
LOCATION:ГЗ 228
END:VEVENT
BEGIN:VEVENT
UID:dszh@192.168.245.71:3006
SEQUENCE:0
DTSTAMP:20260424T235128Z
DTSTART:20251007T130000Z
DTEND:20251007T144000Z
SUMMARY:Алгоритмизация и программирование
LOCATION:ГЗ 105
END:VEVENT
BEGIN:VEVENT
UID:al0p@192.168.245.71:3006
SEQUENCE:0
DTSTAMP:20260424T235128Z
DTSTART:20251007T150000Z
DTEND:20251007T164000Z
SUMMARY:Основы цифровых технологий
LOCATION:ГЗ 235
END:VEVENT
BEGIN:VEVENT
UID:7f3r@192.168.245.71:3006
SEQUENCE:0
DTSTAMP:20260424T235128Z
DTSTART:20251008T050000Z
DTEND:20251008T064000Z
SUMMARY:Элективная физическая культура и спорт
LOCATION:СК Секции
END:VEVENT
BEGIN:VEVENT
UID:vkhz@192.168.245.71:3006
SEQUENCE:0
DTSTAMP:20260424T235128Z
DTSTART:20251008T070000Z
DTEND:20251008T084000Z
SUMMARY:Физика
LOCATION:ГЗ 235
END:VEVENT
BEGIN:VEVENT
UID:2bag@192.168.245.71:3006
SEQUENCE:0
DTSTAMP:20260424T235128Z
DTSTART:20251008T090000Z
DTEND:20251008T104000Z
SUMMARY:Алгоритмизация и программирование
LOCATION:ГЗ 235
END:VEVENT
BEGIN:VEVENT
UID:ddsh@192.168.245.71:3006
SEQUENCE:0
DTSTAMP:20260424T235128Z
DTSTART:20251008T110000Z
DTEND:20251008T124000Z
SUMMARY:Физика
LOCATION:ГЗ 227
END:VEVENT
BEGIN:VEVENT
UID:04gq@192.168.245.71:3006
SEQUENCE:0
DTSTAMP:20260424T235128Z
DTSTART:20251008T140000Z
DTEND:20251008T154000Z
SUMMARY:Факультатив по физике
LOCATION:ГЗ 237
END:VEVENT
BEGIN:VEVENT
UID:u7e0@192.168.245.71:3006
SEQUENCE:0
DTSTAMP:20260424T235128Z
DTSTART:20251009T060000Z
DTEND:20251009T084000Z
SUMMARY:Высшая математика
LOCATION:3 к. 215
END:VEVENT
BEGIN:VEVENT
UID:eqgg@192.168.245.71:3006
SEQUENCE:0
DTSTAMP:20260424T235128Z
DTSTART:20251009T090000Z
DTEND:20251009T104000Z
SUMMARY:Основы российской государственности
LOCATION:3 к. 501
END:VEVENT
BEGIN:VEVENT
UID:eku6@192.168.245.71:3006
SEQUENCE:0
DTSTAMP:20260424T235128Z
DTSTART:20251009T110000Z
DTEND:20251009T124000Z
SUMMARY:Иностранный язык: Базовый курс
LOCATION:3 к. 204
END:VEVENT
BEGIN:VEVENT
UID:tj6k@192.168.245.71:3006
SEQUENCE:0
DTSTAMP:20260424T235128Z
DTSTART:20251010T050000Z
DTEND:20251010T064000Z
SUMMARY:Экономическая культура
LOCATION:ГЗ 237
END:VEVENT
BEGIN:VEVENT
UID:8o5l@192.168.245.71:3006
SEQUENCE:0
DTSTAMP:20260424T235128Z
DTSTART:20251010T070000Z
DTEND:20251010T084000Z
SUMMARY:Введение в профессиональную деятельность
LOCATION:ГЗ 215
END:VEVENT
BEGIN:VEVENT
UID:godi@192.168.245.71:3006
SEQUENCE:0
DTSTAMP:20260424T235128Z
DTSTART:20251010T110000Z
DTEND:20251010T124000Z
SUMMARY:Физика
LOCATION:Не опр. Нет
END:VEVENT
BEGIN:VEVENT
UID:vp4t@192.168.245.71:3006
SEQUENCE:0
DTSTAMP:20260424T235128Z
DTSTART:20251010T130000Z
DTEND:20251010T144000Z
SUMMARY:Алгоритмизация и программирование
LOCATION:ГЗ 175
END:VEVENT
BEGIN:VEVENT
UID:dpfv@192.168.245.71:3006
SEQUENCE:0
DTSTAMP:20260424T235128Z
DTSTART:20251011T070000Z
DTEND:20251011T084000Z
SUMMARY:Элективная физическая культура и спорт
LOCATION:СК Секции
END:VEVENT
BEGIN:VEVENT
UID:ghxg@192.168.245.71:3006
SEQUENCE:0
DTSTAMP:20260424T235128Z
DTSTART:20251011T090000Z
DTEND:20251011T104000Z
SUMMARY:Основы российской государственности
LOCATION:ГЗ 237
END:VEVENT
END:VCALENDAR