BEGIN:VCALENDAR
VERSION:2.0
PRODID:-//spbstu.ru//ical//RU
NAME:Расписание группы 5151003/50002
X-WR-CALNAME:Расписание группы 5151003/50002
TIMEZONE-ID:Europe/Moscow
X-WR-TIMEZONE:Europe/Moscow
BEGIN:VEVENT
UID:y5qu@192.168.245.71:3006
SEQUENCE:0
DTSTAMP:20260421T212348Z
DTSTART:20260120T130000Z
DTEND:20260120T134000Z
SUMMARY:Алгоритмизация и программирование
LOCATION:ГЗ 105
END:VEVENT
BEGIN:VEVENT
UID:tnrr@192.168.245.71:3006
SEQUENCE:0
DTSTAMP:20260421T212348Z
DTSTART:20260121T070000Z
DTEND:20260121T123000Z
SUMMARY:Алгоритмизация и программирование
LOCATION:ГЗ 105
END:VEVENT
END:VCALENDAR