BEGIN:VCALENDAR
VERSION:2.0
PRODID:-//spbstu.ru//ical//RU
NAME:Расписание группы 5151003/50002
X-WR-CALNAME:Расписание группы 5151003/50002
TIMEZONE-ID:Europe/Moscow
X-WR-TIMEZONE:Europe/Moscow
BEGIN:VEVENT
UID:ti2a@192.168.245.71:3006
SEQUENCE:0
DTSTAMP:20260421T135157Z
DTSTART:20260216T060000Z
DTEND:20260216T064000Z
SUMMARY:Введение в профессиональную деятельность
LOCATION:ГЗ 173
END:VEVENT
BEGIN:VEVENT
UID:nmp3@192.168.245.71:3006
SEQUENCE:0
DTSTAMP:20260421T135157Z
DTSTART:20260217T090000Z
DTEND:20260217T104000Z
SUMMARY:Физика
LOCATION:ГЗ 186 В
END:VEVENT
BEGIN:VEVENT
UID:e6tq@192.168.245.71:3006
SEQUENCE:0
DTSTAMP:20260421T135157Z
DTSTART:20260217T090000Z
DTEND:20260217T104000Z
SUMMARY:Физика
LOCATION:ГЗ 186 В
END:VEVENT
BEGIN:VEVENT
UID:hcm4@192.168.245.71:3006
SEQUENCE:0
DTSTAMP:20260421T135157Z
DTSTART:20260217T110000Z
DTEND:20260217T124000Z
SUMMARY:Структуры данных
LOCATION:ГЗ 105
END:VEVENT
BEGIN:VEVENT
UID:rems@192.168.245.71:3006
SEQUENCE:0
DTSTAMP:20260421T135157Z
DTSTART:20260217T130000Z
DTEND:20260217T144000Z
SUMMARY:Высшая математика
LOCATION:ГЗ 219
END:VEVENT
BEGIN:VEVENT
UID:xo16@192.168.245.71:3006
SEQUENCE:0
DTSTAMP:20260421T135157Z
DTSTART:20260217T150000Z
DTEND:20260217T164000Z
SUMMARY:Иностранный язык: Базовый курс
LOCATION:3 к. 503
END:VEVENT
BEGIN:VEVENT
UID:1pd8@192.168.245.71:3006
SEQUENCE:0
DTSTAMP:20260421T135157Z
DTSTART:20260218T050000Z
DTEND:20260218T064000Z
SUMMARY:Элективная физическая культура и спорт
LOCATION:СК Секции
END:VEVENT
BEGIN:VEVENT
UID:g8qb@192.168.245.71:3006
SEQUENCE:0
DTSTAMP:20260421T135157Z
DTSTART:20260218T070000Z
DTEND:20260218T084000Z
SUMMARY:Физика
LOCATION:ГЗ 235
END:VEVENT
BEGIN:VEVENT
UID:9ytv@192.168.245.71:3006
SEQUENCE:0
DTSTAMP:20260421T135157Z
DTSTART:20260218T090000Z
DTEND:20260218T104000Z
SUMMARY:Структуры данных
LOCATION:ГЗ 235
END:VEVENT
BEGIN:VEVENT
UID:dug1@192.168.245.71:3006
SEQUENCE:0
DTSTAMP:20260421T135157Z
DTSTART:20260218T130000Z
DTEND:20260218T144000Z
SUMMARY:Основы информационной безопасности
LOCATION:ГЗ 105
END:VEVENT
BEGIN:VEVENT
UID:tysf@192.168.245.71:3006
SEQUENCE:0
DTSTAMP:20260421T135157Z
DTSTART:20260219T062000Z
DTEND:20260219T084000Z
SUMMARY:Высшая математика
LOCATION:3 к. 201
END:VEVENT
BEGIN:VEVENT
UID:i7t8@192.168.245.71:3006
SEQUENCE:0
DTSTAMP:20260421T135157Z
DTSTART:20260219T090000Z
DTEND:20260219T104000Z
SUMMARY:Основы информационной безопасности
LOCATION:ГЗ 237
END:VEVENT
BEGIN:VEVENT
UID:v8au@192.168.245.71:3006
SEQUENCE:0
DTSTAMP:20260421T135157Z
DTSTART:20260219T110000Z
DTEND:20260219T124000Z
SUMMARY:Технологии программирования
LOCATION:ГЗ 220
END:VEVENT
BEGIN:VEVENT
UID:4372@192.168.245.71:3006
SEQUENCE:0
DTSTAMP:20260421T135157Z
DTSTART:20260220T070000Z
DTEND:20260220T084000Z
SUMMARY:Физика
LOCATION:ГЗ 235
END:VEVENT
BEGIN:VEVENT
UID:j01y@192.168.245.71:3006
SEQUENCE:0
DTSTAMP:20260421T135157Z
DTSTART:20260220T090000Z
DTEND:20260220T104000Z
SUMMARY:Физика
LOCATION:ГЗ 207
END:VEVENT
BEGIN:VEVENT
UID:tsim@192.168.245.71:3006
SEQUENCE:0
DTSTAMP:20260421T135157Z
DTSTART:20260220T110000Z
DTEND:20260220T124000Z
SUMMARY:Технологии программирования
LOCATION:ГЗ 171
END:VEVENT
BEGIN:VEVENT
UID:vog7@192.168.245.71:3006
SEQUENCE:0
DTSTAMP:20260421T135157Z
DTSTART:20260220T130000Z
DTEND:20260220T144000Z
SUMMARY:История России
LOCATION:3 к. 501
END:VEVENT
BEGIN:VEVENT
UID:02zx@192.168.245.71:3006
SEQUENCE:0
DTSTAMP:20260421T135157Z
DTSTART:20260221T070000Z
DTEND:20260221T084000Z
SUMMARY:Элективная физическая культура и спорт
LOCATION:СК Секции
END:VEVENT
BEGIN:VEVENT
UID:cipf@192.168.245.71:3006
SEQUENCE:0
DTSTAMP:20260421T135157Z
DTSTART:20260221T090000Z
DTEND:20260221T104000Z
SUMMARY:История России
LOCATION:ГЗ 237
END:VEVENT
BEGIN:VEVENT
UID:oawe@192.168.245.71:3006
SEQUENCE:0
DTSTAMP:20260421T135157Z
DTSTART:20260221T110000Z
DTEND:20260221T124000Z
SUMMARY:Высшая математика
LOCATION:ГЗ 208
END:VEVENT
BEGIN:VEVENT
UID:jjqx@192.168.245.71:3006
SEQUENCE:0
DTSTAMP:20260421T135157Z
DTSTART:20260221T130000Z
DTEND:20260221T144000Z
SUMMARY:Иностранный язык: Базовый курс
LOCATION:ГЗ 212
END:VEVENT
END:VCALENDAR